BEGIN:VCALENDAR
VERSION:2.0
PRODID:-//The Filling Station - ECPv6.15.20//NONSGML v1.0//EN
CALSCALE:GREGORIAN
METHOD:PUBLISH
X-WR-CALNAME:The Filling Station
X-ORIGINAL-URL:https://yourfillingstation.com
X-WR-CALDESC:Events for The Filling Station
REFRESH-INTERVAL;VALUE=DURATION:PT1H
X-Robots-Tag:noindex
X-PUBLISHED-TTL:PT1H
BEGIN:VTIMEZONE
TZID:America/New_York
BEGIN:DAYLIGHT
TZOFFSETFROM:-0500
TZOFFSETTO:-0400
TZNAME:EDT
DTSTART:20250309T070000
END:DAYLIGHT
BEGIN:STANDARD
TZOFFSETFROM:-0400
TZOFFSETTO:-0500
TZNAME:EST
DTSTART:20251102T060000
END:STANDARD
BEGIN:DAYLIGHT
TZOFFSETFROM:-0500
TZOFFSETTO:-0400
TZNAME:EDT
DTSTART:20260308T070000
END:DAYLIGHT
BEGIN:STANDARD
TZOFFSETFROM:-0400
TZOFFSETTO:-0500
TZNAME:EST
DTSTART:20261101T060000
END:STANDARD
BEGIN:DAYLIGHT
TZOFFSETFROM:-0500
TZOFFSETTO:-0400
TZNAME:EDT
DTSTART:20270314T070000
END:DAYLIGHT
BEGIN:STANDARD
TZOFFSETFROM:-0400
TZOFFSETTO:-0500
TZNAME:EST
DTSTART:20271107T060000
END:STANDARD
END:VTIMEZONE
BEGIN:VEVENT
DTSTART;VALUE=DATE:20260821
DTEND;VALUE=DATE:20260822
DTSTAMP:20260421T010016
CREATED:20250728T165759Z
LAST-MODIFIED:20250728T165759Z
UID:10002407-1787270400-1787356799@yourfillingstation.com
SUMMARY:Friday Specials
DESCRIPTION:Friday Specials\nGrilled Cheese with Tomato Bisque + Fries for $10
URL:https://yourfillingstation.com/event/friday-specials/2026-08-21/
CATEGORIES:Weekly Specials
ATTACH;FMTTYPE=image/jpeg:https://yourfillingstation.com/wp-content/uploads/2025/07/weekly-specials-friday.jpg
END:VEVENT
BEGIN:VEVENT
DTSTART;VALUE=DATE:20260820
DTEND;VALUE=DATE:20260821
DTSTAMP:20260421T010016
CREATED:20251125T170601Z
LAST-MODIFIED:20251125T170659Z
UID:10001885-1787184000-1787270399@yourfillingstation.com
SUMMARY:Thursday Specials
DESCRIPTION:Thursday Specials\nFind Old Glory\nDrawing at 7:15 PM \nTavern Cheese Pizza for $10
URL:https://yourfillingstation.com/event/thursday-specials-2/2026-08-20/
CATEGORIES:Weekly Specials
ATTACH;FMTTYPE=image/jpeg:https://yourfillingstation.com/wp-content/uploads/2025/07/filling-station-thusday-specials.jpg
END:VEVENT
BEGIN:VEVENT
DTSTART;VALUE=DATE:20260819
DTEND;VALUE=DATE:20260820
DTSTAMP:20260421T010016
CREATED:20250728T165137Z
LAST-MODIFIED:20250728T165231Z
UID:10001363-1787097600-1787183999@yourfillingstation.com
SUMMARY:Wednesday Specials
DESCRIPTION:Wednesday Specials\nTrivia Night – Hosted by Trivia 614\nStarts at 7:00 PM \nItalian Sub + Fries for $10
URL:https://yourfillingstation.com/event/wednesday-specials/2026-08-19/
CATEGORIES:Weekly Specials
ATTACH;FMTTYPE=image/jpeg:https://yourfillingstation.com/wp-content/uploads/2025/07/weekly-specials-wednesday.jpg
END:VEVENT
BEGIN:VEVENT
DTSTART;VALUE=DATE:20260818
DTEND;VALUE=DATE:20260819
DTSTAMP:20260421T010016
CREATED:20250728T164931Z
LAST-MODIFIED:20250728T165348Z
UID:10000841-1787011200-1787097599@yourfillingstation.com
SUMMARY:Tuesday Specials
DESCRIPTION:Tuesday Specials\nMusic Trivia\nStarts at 7:00 PM \nPot Roast Sandwich + Fries for $15
URL:https://yourfillingstation.com/event/tuesday-specials/2026-08-18/
CATEGORIES:Weekly Specials
ATTACH;FMTTYPE=image/jpeg:https://yourfillingstation.com/wp-content/uploads/2025/07/weekly-specials-tuesday.jpg
END:VEVENT
BEGIN:VEVENT
DTSTART;VALUE=DATE:20260817
DTEND;VALUE=DATE:20260818
DTSTAMP:20260421T010016
CREATED:20250728T164501Z
LAST-MODIFIED:20250728T165319Z
UID:10000319-1786924800-1787011199@yourfillingstation.com
SUMMARY:Monday Specials
DESCRIPTION:Monday Specials\nMug Night\nFirst Mug $6.50\nRefills $5.50 \n6 Original Wings or 10 Boneless Wings for $6
URL:https://yourfillingstation.com/event/test-event-3/2026-08-17/
CATEGORIES:Weekly Specials
ATTACH;FMTTYPE=image/jpeg:https://yourfillingstation.com/wp-content/uploads/2025/07/weekly-specials-monday.jpg
END:VEVENT
BEGIN:VEVENT
DTSTART;VALUE=DATE:20260814
DTEND;VALUE=DATE:20260815
DTSTAMP:20260421T010016
CREATED:20250728T165759Z
LAST-MODIFIED:20250728T165759Z
UID:10002406-1786665600-1786751999@yourfillingstation.com
SUMMARY:Friday Specials
DESCRIPTION:Friday Specials\nGrilled Cheese with Tomato Bisque + Fries for $10
URL:https://yourfillingstation.com/event/friday-specials/2026-08-14/
CATEGORIES:Weekly Specials
ATTACH;FMTTYPE=image/jpeg:https://yourfillingstation.com/wp-content/uploads/2025/07/weekly-specials-friday.jpg
END:VEVENT
BEGIN:VEVENT
DTSTART;VALUE=DATE:20260813
DTEND;VALUE=DATE:20260814
DTSTAMP:20260421T010016
CREATED:20251125T170601Z
LAST-MODIFIED:20251125T170659Z
UID:10001884-1786579200-1786665599@yourfillingstation.com
SUMMARY:Thursday Specials
DESCRIPTION:Thursday Specials\nFind Old Glory\nDrawing at 7:15 PM \nTavern Cheese Pizza for $10
URL:https://yourfillingstation.com/event/thursday-specials-2/2026-08-13/
CATEGORIES:Weekly Specials
ATTACH;FMTTYPE=image/jpeg:https://yourfillingstation.com/wp-content/uploads/2025/07/filling-station-thusday-specials.jpg
END:VEVENT
BEGIN:VEVENT
DTSTART;VALUE=DATE:20260812
DTEND;VALUE=DATE:20260813
DTSTAMP:20260421T010016
CREATED:20250728T165137Z
LAST-MODIFIED:20250728T165231Z
UID:10001362-1786492800-1786579199@yourfillingstation.com
SUMMARY:Wednesday Specials
DESCRIPTION:Wednesday Specials\nTrivia Night – Hosted by Trivia 614\nStarts at 7:00 PM \nItalian Sub + Fries for $10
URL:https://yourfillingstation.com/event/wednesday-specials/2026-08-12/
CATEGORIES:Weekly Specials
ATTACH;FMTTYPE=image/jpeg:https://yourfillingstation.com/wp-content/uploads/2025/07/weekly-specials-wednesday.jpg
END:VEVENT
BEGIN:VEVENT
DTSTART;VALUE=DATE:20260811
DTEND;VALUE=DATE:20260812
DTSTAMP:20260421T010016
CREATED:20250728T164931Z
LAST-MODIFIED:20250728T165348Z
UID:10000840-1786406400-1786492799@yourfillingstation.com
SUMMARY:Tuesday Specials
DESCRIPTION:Tuesday Specials\nMusic Trivia\nStarts at 7:00 PM \nPot Roast Sandwich + Fries for $15
URL:https://yourfillingstation.com/event/tuesday-specials/2026-08-11/
CATEGORIES:Weekly Specials
ATTACH;FMTTYPE=image/jpeg:https://yourfillingstation.com/wp-content/uploads/2025/07/weekly-specials-tuesday.jpg
END:VEVENT
BEGIN:VEVENT
DTSTART;VALUE=DATE:20260810
DTEND;VALUE=DATE:20260811
DTSTAMP:20260421T010016
CREATED:20250728T164501Z
LAST-MODIFIED:20250728T165319Z
UID:10000318-1786320000-1786406399@yourfillingstation.com
SUMMARY:Monday Specials
DESCRIPTION:Monday Specials\nMug Night\nFirst Mug $6.50\nRefills $5.50 \n6 Original Wings or 10 Boneless Wings for $6
URL:https://yourfillingstation.com/event/test-event-3/2026-08-10/
CATEGORIES:Weekly Specials
ATTACH;FMTTYPE=image/jpeg:https://yourfillingstation.com/wp-content/uploads/2025/07/weekly-specials-monday.jpg
END:VEVENT
BEGIN:VEVENT
DTSTART;VALUE=DATE:20260807
DTEND;VALUE=DATE:20260808
DTSTAMP:20260421T010016
CREATED:20250728T165759Z
LAST-MODIFIED:20250728T165759Z
UID:10002405-1786060800-1786147199@yourfillingstation.com
SUMMARY:Friday Specials
DESCRIPTION:Friday Specials\nGrilled Cheese with Tomato Bisque + Fries for $10
URL:https://yourfillingstation.com/event/friday-specials/2026-08-07/
CATEGORIES:Weekly Specials
ATTACH;FMTTYPE=image/jpeg:https://yourfillingstation.com/wp-content/uploads/2025/07/weekly-specials-friday.jpg
END:VEVENT
BEGIN:VEVENT
DTSTART;VALUE=DATE:20260806
DTEND;VALUE=DATE:20260807
DTSTAMP:20260421T010016
CREATED:20251125T170601Z
LAST-MODIFIED:20251125T170659Z
UID:10001883-1785974400-1786060799@yourfillingstation.com
SUMMARY:Thursday Specials
DESCRIPTION:Thursday Specials\nFind Old Glory\nDrawing at 7:15 PM \nTavern Cheese Pizza for $10
URL:https://yourfillingstation.com/event/thursday-specials-2/2026-08-06/
CATEGORIES:Weekly Specials
ATTACH;FMTTYPE=image/jpeg:https://yourfillingstation.com/wp-content/uploads/2025/07/filling-station-thusday-specials.jpg
END:VEVENT
BEGIN:VEVENT
DTSTART;VALUE=DATE:20260805
DTEND;VALUE=DATE:20260806
DTSTAMP:20260421T010016
CREATED:20250728T165137Z
LAST-MODIFIED:20250728T165231Z
UID:10001361-1785888000-1785974399@yourfillingstation.com
SUMMARY:Wednesday Specials
DESCRIPTION:Wednesday Specials\nTrivia Night – Hosted by Trivia 614\nStarts at 7:00 PM \nItalian Sub + Fries for $10
URL:https://yourfillingstation.com/event/wednesday-specials/2026-08-05/
CATEGORIES:Weekly Specials
ATTACH;FMTTYPE=image/jpeg:https://yourfillingstation.com/wp-content/uploads/2025/07/weekly-specials-wednesday.jpg
END:VEVENT
BEGIN:VEVENT
DTSTART;VALUE=DATE:20260804
DTEND;VALUE=DATE:20260805
DTSTAMP:20260421T010016
CREATED:20250728T164931Z
LAST-MODIFIED:20250728T165348Z
UID:10000839-1785801600-1785887999@yourfillingstation.com
SUMMARY:Tuesday Specials
DESCRIPTION:Tuesday Specials\nMusic Trivia\nStarts at 7:00 PM \nPot Roast Sandwich + Fries for $15
URL:https://yourfillingstation.com/event/tuesday-specials/2026-08-04/
CATEGORIES:Weekly Specials
ATTACH;FMTTYPE=image/jpeg:https://yourfillingstation.com/wp-content/uploads/2025/07/weekly-specials-tuesday.jpg
END:VEVENT
BEGIN:VEVENT
DTSTART;VALUE=DATE:20260803
DTEND;VALUE=DATE:20260804
DTSTAMP:20260421T010016
CREATED:20250728T164501Z
LAST-MODIFIED:20250728T165319Z
UID:10000317-1785715200-1785801599@yourfillingstation.com
SUMMARY:Monday Specials
DESCRIPTION:Monday Specials\nMug Night\nFirst Mug $6.50\nRefills $5.50 \n6 Original Wings or 10 Boneless Wings for $6
URL:https://yourfillingstation.com/event/test-event-3/2026-08-03/
CATEGORIES:Weekly Specials
ATTACH;FMTTYPE=image/jpeg:https://yourfillingstation.com/wp-content/uploads/2025/07/weekly-specials-monday.jpg
END:VEVENT
BEGIN:VEVENT
DTSTART;VALUE=DATE:20260731
DTEND;VALUE=DATE:20260801
DTSTAMP:20260421T010016
CREATED:20250728T165759Z
LAST-MODIFIED:20250728T165759Z
UID:10002404-1785456000-1785542399@yourfillingstation.com
SUMMARY:Friday Specials
DESCRIPTION:Friday Specials\nGrilled Cheese with Tomato Bisque + Fries for $10
URL:https://yourfillingstation.com/event/friday-specials/2026-07-31/
CATEGORIES:Weekly Specials
ATTACH;FMTTYPE=image/jpeg:https://yourfillingstation.com/wp-content/uploads/2025/07/weekly-specials-friday.jpg
END:VEVENT
BEGIN:VEVENT
DTSTART;VALUE=DATE:20260730
DTEND;VALUE=DATE:20260731
DTSTAMP:20260421T010016
CREATED:20251125T170601Z
LAST-MODIFIED:20251125T170659Z
UID:10001882-1785369600-1785455999@yourfillingstation.com
SUMMARY:Thursday Specials
DESCRIPTION:Thursday Specials\nFind Old Glory\nDrawing at 7:15 PM \nTavern Cheese Pizza for $10
URL:https://yourfillingstation.com/event/thursday-specials-2/2026-07-30/
CATEGORIES:Weekly Specials
ATTACH;FMTTYPE=image/jpeg:https://yourfillingstation.com/wp-content/uploads/2025/07/filling-station-thusday-specials.jpg
END:VEVENT
BEGIN:VEVENT
DTSTART;VALUE=DATE:20260729
DTEND;VALUE=DATE:20260730
DTSTAMP:20260421T010016
CREATED:20250728T165137Z
LAST-MODIFIED:20250728T165231Z
UID:10001360-1785283200-1785369599@yourfillingstation.com
SUMMARY:Wednesday Specials
DESCRIPTION:Wednesday Specials\nTrivia Night – Hosted by Trivia 614\nStarts at 7:00 PM \nItalian Sub + Fries for $10
URL:https://yourfillingstation.com/event/wednesday-specials/2026-07-29/
CATEGORIES:Weekly Specials
ATTACH;FMTTYPE=image/jpeg:https://yourfillingstation.com/wp-content/uploads/2025/07/weekly-specials-wednesday.jpg
END:VEVENT
BEGIN:VEVENT
DTSTART;VALUE=DATE:20260728
DTEND;VALUE=DATE:20260729
DTSTAMP:20260421T010016
CREATED:20250728T164931Z
LAST-MODIFIED:20250728T165348Z
UID:10000838-1785196800-1785283199@yourfillingstation.com
SUMMARY:Tuesday Specials
DESCRIPTION:Tuesday Specials\nMusic Trivia\nStarts at 7:00 PM \nPot Roast Sandwich + Fries for $15
URL:https://yourfillingstation.com/event/tuesday-specials/2026-07-28/
CATEGORIES:Weekly Specials
ATTACH;FMTTYPE=image/jpeg:https://yourfillingstation.com/wp-content/uploads/2025/07/weekly-specials-tuesday.jpg
END:VEVENT
BEGIN:VEVENT
DTSTART;VALUE=DATE:20260727
DTEND;VALUE=DATE:20260728
DTSTAMP:20260421T010016
CREATED:20250728T164501Z
LAST-MODIFIED:20250728T165319Z
UID:10000316-1785110400-1785196799@yourfillingstation.com
SUMMARY:Monday Specials
DESCRIPTION:Monday Specials\nMug Night\nFirst Mug $6.50\nRefills $5.50 \n6 Original Wings or 10 Boneless Wings for $6
URL:https://yourfillingstation.com/event/test-event-3/2026-07-27/
CATEGORIES:Weekly Specials
ATTACH;FMTTYPE=image/jpeg:https://yourfillingstation.com/wp-content/uploads/2025/07/weekly-specials-monday.jpg
END:VEVENT
BEGIN:VEVENT
DTSTART;VALUE=DATE:20260724
DTEND;VALUE=DATE:20260725
DTSTAMP:20260421T010016
CREATED:20250728T165759Z
LAST-MODIFIED:20250728T165759Z
UID:10002403-1784851200-1784937599@yourfillingstation.com
SUMMARY:Friday Specials
DESCRIPTION:Friday Specials\nGrilled Cheese with Tomato Bisque + Fries for $10
URL:https://yourfillingstation.com/event/friday-specials/2026-07-24/
CATEGORIES:Weekly Specials
ATTACH;FMTTYPE=image/jpeg:https://yourfillingstation.com/wp-content/uploads/2025/07/weekly-specials-friday.jpg
END:VEVENT
BEGIN:VEVENT
DTSTART;VALUE=DATE:20260723
DTEND;VALUE=DATE:20260724
DTSTAMP:20260421T010016
CREATED:20251125T170601Z
LAST-MODIFIED:20251125T170659Z
UID:10001881-1784764800-1784851199@yourfillingstation.com
SUMMARY:Thursday Specials
DESCRIPTION:Thursday Specials\nFind Old Glory\nDrawing at 7:15 PM \nTavern Cheese Pizza for $10
URL:https://yourfillingstation.com/event/thursday-specials-2/2026-07-23/
CATEGORIES:Weekly Specials
ATTACH;FMTTYPE=image/jpeg:https://yourfillingstation.com/wp-content/uploads/2025/07/filling-station-thusday-specials.jpg
END:VEVENT
BEGIN:VEVENT
DTSTART;VALUE=DATE:20260722
DTEND;VALUE=DATE:20260723
DTSTAMP:20260421T010016
CREATED:20250728T165137Z
LAST-MODIFIED:20250728T165231Z
UID:10001359-1784678400-1784764799@yourfillingstation.com
SUMMARY:Wednesday Specials
DESCRIPTION:Wednesday Specials\nTrivia Night – Hosted by Trivia 614\nStarts at 7:00 PM \nItalian Sub + Fries for $10
URL:https://yourfillingstation.com/event/wednesday-specials/2026-07-22/
CATEGORIES:Weekly Specials
ATTACH;FMTTYPE=image/jpeg:https://yourfillingstation.com/wp-content/uploads/2025/07/weekly-specials-wednesday.jpg
END:VEVENT
BEGIN:VEVENT
DTSTART;VALUE=DATE:20260721
DTEND;VALUE=DATE:20260722
DTSTAMP:20260421T010016
CREATED:20250728T164931Z
LAST-MODIFIED:20250728T165348Z
UID:10000837-1784592000-1784678399@yourfillingstation.com
SUMMARY:Tuesday Specials
DESCRIPTION:Tuesday Specials\nMusic Trivia\nStarts at 7:00 PM \nPot Roast Sandwich + Fries for $15
URL:https://yourfillingstation.com/event/tuesday-specials/2026-07-21/
CATEGORIES:Weekly Specials
ATTACH;FMTTYPE=image/jpeg:https://yourfillingstation.com/wp-content/uploads/2025/07/weekly-specials-tuesday.jpg
END:VEVENT
BEGIN:VEVENT
DTSTART;VALUE=DATE:20260720
DTEND;VALUE=DATE:20260721
DTSTAMP:20260421T010016
CREATED:20250728T164501Z
LAST-MODIFIED:20250728T165319Z
UID:10000315-1784505600-1784591999@yourfillingstation.com
SUMMARY:Monday Specials
DESCRIPTION:Monday Specials\nMug Night\nFirst Mug $6.50\nRefills $5.50 \n6 Original Wings or 10 Boneless Wings for $6
URL:https://yourfillingstation.com/event/test-event-3/2026-07-20/
CATEGORIES:Weekly Specials
ATTACH;FMTTYPE=image/jpeg:https://yourfillingstation.com/wp-content/uploads/2025/07/weekly-specials-monday.jpg
END:VEVENT
BEGIN:VEVENT
DTSTART;VALUE=DATE:20260717
DTEND;VALUE=DATE:20260718
DTSTAMP:20260421T010016
CREATED:20250728T165759Z
LAST-MODIFIED:20250728T165759Z
UID:10002402-1784246400-1784332799@yourfillingstation.com
SUMMARY:Friday Specials
DESCRIPTION:Friday Specials\nGrilled Cheese with Tomato Bisque + Fries for $10
URL:https://yourfillingstation.com/event/friday-specials/2026-07-17/
CATEGORIES:Weekly Specials
ATTACH;FMTTYPE=image/jpeg:https://yourfillingstation.com/wp-content/uploads/2025/07/weekly-specials-friday.jpg
END:VEVENT
BEGIN:VEVENT
DTSTART;VALUE=DATE:20260716
DTEND;VALUE=DATE:20260717
DTSTAMP:20260421T010016
CREATED:20251125T170601Z
LAST-MODIFIED:20251125T170659Z
UID:10001880-1784160000-1784246399@yourfillingstation.com
SUMMARY:Thursday Specials
DESCRIPTION:Thursday Specials\nFind Old Glory\nDrawing at 7:15 PM \nTavern Cheese Pizza for $10
URL:https://yourfillingstation.com/event/thursday-specials-2/2026-07-16/
CATEGORIES:Weekly Specials
ATTACH;FMTTYPE=image/jpeg:https://yourfillingstation.com/wp-content/uploads/2025/07/filling-station-thusday-specials.jpg
END:VEVENT
BEGIN:VEVENT
DTSTART;VALUE=DATE:20260715
DTEND;VALUE=DATE:20260716
DTSTAMP:20260421T010016
CREATED:20250728T165137Z
LAST-MODIFIED:20250728T165231Z
UID:10001358-1784073600-1784159999@yourfillingstation.com
SUMMARY:Wednesday Specials
DESCRIPTION:Wednesday Specials\nTrivia Night – Hosted by Trivia 614\nStarts at 7:00 PM \nItalian Sub + Fries for $10
URL:https://yourfillingstation.com/event/wednesday-specials/2026-07-15/
CATEGORIES:Weekly Specials
ATTACH;FMTTYPE=image/jpeg:https://yourfillingstation.com/wp-content/uploads/2025/07/weekly-specials-wednesday.jpg
END:VEVENT
BEGIN:VEVENT
DTSTART;VALUE=DATE:20260714
DTEND;VALUE=DATE:20260715
DTSTAMP:20260421T010016
CREATED:20250728T164931Z
LAST-MODIFIED:20250728T165348Z
UID:10000836-1783987200-1784073599@yourfillingstation.com
SUMMARY:Tuesday Specials
DESCRIPTION:Tuesday Specials\nMusic Trivia\nStarts at 7:00 PM \nPot Roast Sandwich + Fries for $15
URL:https://yourfillingstation.com/event/tuesday-specials/2026-07-14/
CATEGORIES:Weekly Specials
ATTACH;FMTTYPE=image/jpeg:https://yourfillingstation.com/wp-content/uploads/2025/07/weekly-specials-tuesday.jpg
END:VEVENT
BEGIN:VEVENT
DTSTART;VALUE=DATE:20260713
DTEND;VALUE=DATE:20260714
DTSTAMP:20260421T010016
CREATED:20250728T164501Z
LAST-MODIFIED:20250728T165319Z
UID:10000314-1783900800-1783987199@yourfillingstation.com
SUMMARY:Monday Specials
DESCRIPTION:Monday Specials\nMug Night\nFirst Mug $6.50\nRefills $5.50 \n6 Original Wings or 10 Boneless Wings for $6
URL:https://yourfillingstation.com/event/test-event-3/2026-07-13/
CATEGORIES:Weekly Specials
ATTACH;FMTTYPE=image/jpeg:https://yourfillingstation.com/wp-content/uploads/2025/07/weekly-specials-monday.jpg
END:VEVENT
END:VCALENDAR