BEGIN:VCALENDAR
VERSION:2.0
PRODID:-//The Filling Station - ECPv6.15.20//NONSGML v1.0//EN
CALSCALE:GREGORIAN
METHOD:PUBLISH
X-ORIGINAL-URL:https://yourfillingstation.com
X-WR-CALDESC:Events for The Filling Station
REFRESH-INTERVAL;VALUE=DURATION:PT1H
X-Robots-Tag:noindex
X-PUBLISHED-TTL:PT1H
BEGIN:VTIMEZONE
TZID:America/New_York
BEGIN:DAYLIGHT
TZOFFSETFROM:-0500
TZOFFSETTO:-0400
TZNAME:EDT
DTSTART:20250309T070000
END:DAYLIGHT
BEGIN:STANDARD
TZOFFSETFROM:-0400
TZOFFSETTO:-0500
TZNAME:EST
DTSTART:20251102T060000
END:STANDARD
BEGIN:DAYLIGHT
TZOFFSETFROM:-0500
TZOFFSETTO:-0400
TZNAME:EDT
DTSTART:20260308T070000
END:DAYLIGHT
BEGIN:STANDARD
TZOFFSETFROM:-0400
TZOFFSETTO:-0500
TZNAME:EST
DTSTART:20261101T060000
END:STANDARD
BEGIN:DAYLIGHT
TZOFFSETFROM:-0500
TZOFFSETTO:-0400
TZNAME:EDT
DTSTART:20270314T070000
END:DAYLIGHT
BEGIN:STANDARD
TZOFFSETFROM:-0400
TZOFFSETTO:-0500
TZNAME:EST
DTSTART:20271107T060000
END:STANDARD
END:VTIMEZONE
BEGIN:VEVENT
DTSTART;VALUE=DATE:20261009
DTEND;VALUE=DATE:20261010
DTSTAMP:20260420T221237
CREATED:20250728T165759Z
LAST-MODIFIED:20250728T165759Z
UID:10002414-1791504000-1791590399@yourfillingstation.com
SUMMARY:Friday Specials
DESCRIPTION:Friday Specials\nGrilled Cheese with Tomato Bisque + Fries for $10
URL:https://yourfillingstation.com/event/friday-specials/2026-10-09/
CATEGORIES:Weekly Specials
ATTACH;FMTTYPE=image/jpeg:https://yourfillingstation.com/wp-content/uploads/2025/07/weekly-specials-friday.jpg
END:VEVENT
BEGIN:VEVENT
DTSTART;VALUE=DATE:20261012
DTEND;VALUE=DATE:20261013
DTSTAMP:20260420T221237
CREATED:20250728T164501Z
LAST-MODIFIED:20250728T165319Z
UID:10000327-1791763200-1791849599@yourfillingstation.com
SUMMARY:Monday Specials
DESCRIPTION:Monday Specials\nMug Night\nFirst Mug $6.50\nRefills $5.50 \n6 Original Wings or 10 Boneless Wings for $6
URL:https://yourfillingstation.com/event/test-event-3/2026-10-12/
CATEGORIES:Weekly Specials
ATTACH;FMTTYPE=image/jpeg:https://yourfillingstation.com/wp-content/uploads/2025/07/weekly-specials-monday.jpg
END:VEVENT
BEGIN:VEVENT
DTSTART;VALUE=DATE:20261013
DTEND;VALUE=DATE:20261014
DTSTAMP:20260420T221237
CREATED:20250728T164931Z
LAST-MODIFIED:20250728T165348Z
UID:10000849-1791849600-1791935999@yourfillingstation.com
SUMMARY:Tuesday Specials
DESCRIPTION:Tuesday Specials\nMusic Trivia\nStarts at 7:00 PM \nPot Roast Sandwich + Fries for $15
URL:https://yourfillingstation.com/event/tuesday-specials/2026-10-13/
CATEGORIES:Weekly Specials
ATTACH;FMTTYPE=image/jpeg:https://yourfillingstation.com/wp-content/uploads/2025/07/weekly-specials-tuesday.jpg
END:VEVENT
BEGIN:VEVENT
DTSTART;VALUE=DATE:20261014
DTEND;VALUE=DATE:20261015
DTSTAMP:20260420T221237
CREATED:20250728T165137Z
LAST-MODIFIED:20250728T165231Z
UID:10001371-1791936000-1792022399@yourfillingstation.com
SUMMARY:Wednesday Specials
DESCRIPTION:Wednesday Specials\nTrivia Night – Hosted by Trivia 614\nStarts at 7:00 PM \nItalian Sub + Fries for $10
URL:https://yourfillingstation.com/event/wednesday-specials/2026-10-14/
CATEGORIES:Weekly Specials
ATTACH;FMTTYPE=image/jpeg:https://yourfillingstation.com/wp-content/uploads/2025/07/weekly-specials-wednesday.jpg
END:VEVENT
BEGIN:VEVENT
DTSTART;VALUE=DATE:20261015
DTEND;VALUE=DATE:20261016
DTSTAMP:20260420T221237
CREATED:20251125T170601Z
LAST-MODIFIED:20251125T170659Z
UID:10001893-1792022400-1792108799@yourfillingstation.com
SUMMARY:Thursday Specials
DESCRIPTION:Thursday Specials\nFind Old Glory\nDrawing at 7:15 PM \nTavern Cheese Pizza for $10
URL:https://yourfillingstation.com/event/thursday-specials-2/2026-10-15/
CATEGORIES:Weekly Specials
ATTACH;FMTTYPE=image/jpeg:https://yourfillingstation.com/wp-content/uploads/2025/07/filling-station-thusday-specials.jpg
END:VEVENT
BEGIN:VEVENT
DTSTART;VALUE=DATE:20261016
DTEND;VALUE=DATE:20261017
DTSTAMP:20260420T221237
CREATED:20250728T165759Z
LAST-MODIFIED:20250728T165759Z
UID:10002415-1792108800-1792195199@yourfillingstation.com
SUMMARY:Friday Specials
DESCRIPTION:Friday Specials\nGrilled Cheese with Tomato Bisque + Fries for $10
URL:https://yourfillingstation.com/event/friday-specials/2026-10-16/
CATEGORIES:Weekly Specials
ATTACH;FMTTYPE=image/jpeg:https://yourfillingstation.com/wp-content/uploads/2025/07/weekly-specials-friday.jpg
END:VEVENT
BEGIN:VEVENT
DTSTART;VALUE=DATE:20261019
DTEND;VALUE=DATE:20261020
DTSTAMP:20260420T221237
CREATED:20250728T164501Z
LAST-MODIFIED:20250728T165319Z
UID:10000328-1792368000-1792454399@yourfillingstation.com
SUMMARY:Monday Specials
DESCRIPTION:Monday Specials\nMug Night\nFirst Mug $6.50\nRefills $5.50 \n6 Original Wings or 10 Boneless Wings for $6
URL:https://yourfillingstation.com/event/test-event-3/2026-10-19/
CATEGORIES:Weekly Specials
ATTACH;FMTTYPE=image/jpeg:https://yourfillingstation.com/wp-content/uploads/2025/07/weekly-specials-monday.jpg
END:VEVENT
BEGIN:VEVENT
DTSTART;VALUE=DATE:20261020
DTEND;VALUE=DATE:20261021
DTSTAMP:20260420T221237
CREATED:20250728T164931Z
LAST-MODIFIED:20250728T165348Z
UID:10000850-1792454400-1792540799@yourfillingstation.com
SUMMARY:Tuesday Specials
DESCRIPTION:Tuesday Specials\nMusic Trivia\nStarts at 7:00 PM \nPot Roast Sandwich + Fries for $15
URL:https://yourfillingstation.com/event/tuesday-specials/2026-10-20/
CATEGORIES:Weekly Specials
ATTACH;FMTTYPE=image/jpeg:https://yourfillingstation.com/wp-content/uploads/2025/07/weekly-specials-tuesday.jpg
END:VEVENT
BEGIN:VEVENT
DTSTART;VALUE=DATE:20261021
DTEND;VALUE=DATE:20261022
DTSTAMP:20260420T221237
CREATED:20250728T165137Z
LAST-MODIFIED:20250728T165231Z
UID:10001372-1792540800-1792627199@yourfillingstation.com
SUMMARY:Wednesday Specials
DESCRIPTION:Wednesday Specials\nTrivia Night – Hosted by Trivia 614\nStarts at 7:00 PM \nItalian Sub + Fries for $10
URL:https://yourfillingstation.com/event/wednesday-specials/2026-10-21/
CATEGORIES:Weekly Specials
ATTACH;FMTTYPE=image/jpeg:https://yourfillingstation.com/wp-content/uploads/2025/07/weekly-specials-wednesday.jpg
END:VEVENT
BEGIN:VEVENT
DTSTART;VALUE=DATE:20261022
DTEND;VALUE=DATE:20261023
DTSTAMP:20260420T221237
CREATED:20251125T170601Z
LAST-MODIFIED:20251125T170659Z
UID:10001894-1792627200-1792713599@yourfillingstation.com
SUMMARY:Thursday Specials
DESCRIPTION:Thursday Specials\nFind Old Glory\nDrawing at 7:15 PM \nTavern Cheese Pizza for $10
URL:https://yourfillingstation.com/event/thursday-specials-2/2026-10-22/
CATEGORIES:Weekly Specials
ATTACH;FMTTYPE=image/jpeg:https://yourfillingstation.com/wp-content/uploads/2025/07/filling-station-thusday-specials.jpg
END:VEVENT
BEGIN:VEVENT
DTSTART;VALUE=DATE:20261023
DTEND;VALUE=DATE:20261024
DTSTAMP:20260420T221237
CREATED:20250728T165759Z
LAST-MODIFIED:20250728T165759Z
UID:10002416-1792713600-1792799999@yourfillingstation.com
SUMMARY:Friday Specials
DESCRIPTION:Friday Specials\nGrilled Cheese with Tomato Bisque + Fries for $10
URL:https://yourfillingstation.com/event/friday-specials/2026-10-23/
CATEGORIES:Weekly Specials
ATTACH;FMTTYPE=image/jpeg:https://yourfillingstation.com/wp-content/uploads/2025/07/weekly-specials-friday.jpg
END:VEVENT
BEGIN:VEVENT
DTSTART;VALUE=DATE:20261026
DTEND;VALUE=DATE:20261027
DTSTAMP:20260420T221237
CREATED:20250728T164501Z
LAST-MODIFIED:20250728T165319Z
UID:10000329-1792972800-1793059199@yourfillingstation.com
SUMMARY:Monday Specials
DESCRIPTION:Monday Specials\nMug Night\nFirst Mug $6.50\nRefills $5.50 \n6 Original Wings or 10 Boneless Wings for $6
URL:https://yourfillingstation.com/event/test-event-3/2026-10-26/
CATEGORIES:Weekly Specials
ATTACH;FMTTYPE=image/jpeg:https://yourfillingstation.com/wp-content/uploads/2025/07/weekly-specials-monday.jpg
END:VEVENT
BEGIN:VEVENT
DTSTART;VALUE=DATE:20261027
DTEND;VALUE=DATE:20261028
DTSTAMP:20260420T221237
CREATED:20250728T164931Z
LAST-MODIFIED:20250728T165348Z
UID:10000851-1793059200-1793145599@yourfillingstation.com
SUMMARY:Tuesday Specials
DESCRIPTION:Tuesday Specials\nMusic Trivia\nStarts at 7:00 PM \nPot Roast Sandwich + Fries for $15
URL:https://yourfillingstation.com/event/tuesday-specials/2026-10-27/
CATEGORIES:Weekly Specials
ATTACH;FMTTYPE=image/jpeg:https://yourfillingstation.com/wp-content/uploads/2025/07/weekly-specials-tuesday.jpg
END:VEVENT
BEGIN:VEVENT
DTSTART;VALUE=DATE:20261028
DTEND;VALUE=DATE:20261029
DTSTAMP:20260420T221237
CREATED:20250728T165137Z
LAST-MODIFIED:20250728T165231Z
UID:10001373-1793145600-1793231999@yourfillingstation.com
SUMMARY:Wednesday Specials
DESCRIPTION:Wednesday Specials\nTrivia Night – Hosted by Trivia 614\nStarts at 7:00 PM \nItalian Sub + Fries for $10
URL:https://yourfillingstation.com/event/wednesday-specials/2026-10-28/
CATEGORIES:Weekly Specials
ATTACH;FMTTYPE=image/jpeg:https://yourfillingstation.com/wp-content/uploads/2025/07/weekly-specials-wednesday.jpg
END:VEVENT
BEGIN:VEVENT
DTSTART;VALUE=DATE:20261029
DTEND;VALUE=DATE:20261030
DTSTAMP:20260420T221237
CREATED:20251125T170601Z
LAST-MODIFIED:20251125T170659Z
UID:10001895-1793232000-1793318399@yourfillingstation.com
SUMMARY:Thursday Specials
DESCRIPTION:Thursday Specials\nFind Old Glory\nDrawing at 7:15 PM \nTavern Cheese Pizza for $10
URL:https://yourfillingstation.com/event/thursday-specials-2/2026-10-29/
CATEGORIES:Weekly Specials
ATTACH;FMTTYPE=image/jpeg:https://yourfillingstation.com/wp-content/uploads/2025/07/filling-station-thusday-specials.jpg
END:VEVENT
BEGIN:VEVENT
DTSTART;VALUE=DATE:20261030
DTEND;VALUE=DATE:20261031
DTSTAMP:20260420T221237
CREATED:20250728T165759Z
LAST-MODIFIED:20250728T165759Z
UID:10002417-1793318400-1793404799@yourfillingstation.com
SUMMARY:Friday Specials
DESCRIPTION:Friday Specials\nGrilled Cheese with Tomato Bisque + Fries for $10
URL:https://yourfillingstation.com/event/friday-specials/2026-10-30/
CATEGORIES:Weekly Specials
ATTACH;FMTTYPE=image/jpeg:https://yourfillingstation.com/wp-content/uploads/2025/07/weekly-specials-friday.jpg
END:VEVENT
BEGIN:VEVENT
DTSTART;VALUE=DATE:20261102
DTEND;VALUE=DATE:20261103
DTSTAMP:20260420T221237
CREATED:20250728T164501Z
LAST-MODIFIED:20250728T165319Z
UID:10000330-1793577600-1793663999@yourfillingstation.com
SUMMARY:Monday Specials
DESCRIPTION:Monday Specials\nMug Night\nFirst Mug $6.50\nRefills $5.50 \n6 Original Wings or 10 Boneless Wings for $6
URL:https://yourfillingstation.com/event/test-event-3/2026-11-02/
CATEGORIES:Weekly Specials
ATTACH;FMTTYPE=image/jpeg:https://yourfillingstation.com/wp-content/uploads/2025/07/weekly-specials-monday.jpg
END:VEVENT
BEGIN:VEVENT
DTSTART;VALUE=DATE:20261103
DTEND;VALUE=DATE:20261104
DTSTAMP:20260420T221237
CREATED:20250728T164931Z
LAST-MODIFIED:20250728T165348Z
UID:10000852-1793664000-1793750399@yourfillingstation.com
SUMMARY:Tuesday Specials
DESCRIPTION:Tuesday Specials\nMusic Trivia\nStarts at 7:00 PM \nPot Roast Sandwich + Fries for $15
URL:https://yourfillingstation.com/event/tuesday-specials/2026-11-03/
CATEGORIES:Weekly Specials
ATTACH;FMTTYPE=image/jpeg:https://yourfillingstation.com/wp-content/uploads/2025/07/weekly-specials-tuesday.jpg
END:VEVENT
BEGIN:VEVENT
DTSTART;VALUE=DATE:20261104
DTEND;VALUE=DATE:20261105
DTSTAMP:20260420T221237
CREATED:20250728T165137Z
LAST-MODIFIED:20250728T165231Z
UID:10001374-1793750400-1793836799@yourfillingstation.com
SUMMARY:Wednesday Specials
DESCRIPTION:Wednesday Specials\nTrivia Night – Hosted by Trivia 614\nStarts at 7:00 PM \nItalian Sub + Fries for $10
URL:https://yourfillingstation.com/event/wednesday-specials/2026-11-04/
CATEGORIES:Weekly Specials
ATTACH;FMTTYPE=image/jpeg:https://yourfillingstation.com/wp-content/uploads/2025/07/weekly-specials-wednesday.jpg
END:VEVENT
BEGIN:VEVENT
DTSTART;VALUE=DATE:20261105
DTEND;VALUE=DATE:20261106
DTSTAMP:20260420T221237
CREATED:20251125T170601Z
LAST-MODIFIED:20251125T170659Z
UID:10001896-1793836800-1793923199@yourfillingstation.com
SUMMARY:Thursday Specials
DESCRIPTION:Thursday Specials\nFind Old Glory\nDrawing at 7:15 PM \nTavern Cheese Pizza for $10
URL:https://yourfillingstation.com/event/thursday-specials-2/2026-11-05/
CATEGORIES:Weekly Specials
ATTACH;FMTTYPE=image/jpeg:https://yourfillingstation.com/wp-content/uploads/2025/07/filling-station-thusday-specials.jpg
END:VEVENT
BEGIN:VEVENT
DTSTART;VALUE=DATE:20261106
DTEND;VALUE=DATE:20261107
DTSTAMP:20260420T221237
CREATED:20250728T165759Z
LAST-MODIFIED:20250728T165759Z
UID:10002418-1793923200-1794009599@yourfillingstation.com
SUMMARY:Friday Specials
DESCRIPTION:Friday Specials\nGrilled Cheese with Tomato Bisque + Fries for $10
URL:https://yourfillingstation.com/event/friday-specials/2026-11-06/
CATEGORIES:Weekly Specials
ATTACH;FMTTYPE=image/jpeg:https://yourfillingstation.com/wp-content/uploads/2025/07/weekly-specials-friday.jpg
END:VEVENT
BEGIN:VEVENT
DTSTART;VALUE=DATE:20261109
DTEND;VALUE=DATE:20261110
DTSTAMP:20260420T221237
CREATED:20250728T164501Z
LAST-MODIFIED:20250728T165319Z
UID:10000331-1794182400-1794268799@yourfillingstation.com
SUMMARY:Monday Specials
DESCRIPTION:Monday Specials\nMug Night\nFirst Mug $6.50\nRefills $5.50 \n6 Original Wings or 10 Boneless Wings for $6
URL:https://yourfillingstation.com/event/test-event-3/2026-11-09/
CATEGORIES:Weekly Specials
ATTACH;FMTTYPE=image/jpeg:https://yourfillingstation.com/wp-content/uploads/2025/07/weekly-specials-monday.jpg
END:VEVENT
BEGIN:VEVENT
DTSTART;VALUE=DATE:20261110
DTEND;VALUE=DATE:20261111
DTSTAMP:20260420T221237
CREATED:20250728T164931Z
LAST-MODIFIED:20250728T165348Z
UID:10000853-1794268800-1794355199@yourfillingstation.com
SUMMARY:Tuesday Specials
DESCRIPTION:Tuesday Specials\nMusic Trivia\nStarts at 7:00 PM \nPot Roast Sandwich + Fries for $15
URL:https://yourfillingstation.com/event/tuesday-specials/2026-11-10/
CATEGORIES:Weekly Specials
ATTACH;FMTTYPE=image/jpeg:https://yourfillingstation.com/wp-content/uploads/2025/07/weekly-specials-tuesday.jpg
END:VEVENT
BEGIN:VEVENT
DTSTART;VALUE=DATE:20261111
DTEND;VALUE=DATE:20261112
DTSTAMP:20260420T221237
CREATED:20250728T165137Z
LAST-MODIFIED:20250728T165231Z
UID:10001375-1794355200-1794441599@yourfillingstation.com
SUMMARY:Wednesday Specials
DESCRIPTION:Wednesday Specials\nTrivia Night – Hosted by Trivia 614\nStarts at 7:00 PM \nItalian Sub + Fries for $10
URL:https://yourfillingstation.com/event/wednesday-specials/2026-11-11/
CATEGORIES:Weekly Specials
ATTACH;FMTTYPE=image/jpeg:https://yourfillingstation.com/wp-content/uploads/2025/07/weekly-specials-wednesday.jpg
END:VEVENT
BEGIN:VEVENT
DTSTART;VALUE=DATE:20261112
DTEND;VALUE=DATE:20261113
DTSTAMP:20260420T221237
CREATED:20251125T170601Z
LAST-MODIFIED:20251125T170659Z
UID:10001897-1794441600-1794527999@yourfillingstation.com
SUMMARY:Thursday Specials
DESCRIPTION:Thursday Specials\nFind Old Glory\nDrawing at 7:15 PM \nTavern Cheese Pizza for $10
URL:https://yourfillingstation.com/event/thursday-specials-2/2026-11-12/
CATEGORIES:Weekly Specials
ATTACH;FMTTYPE=image/jpeg:https://yourfillingstation.com/wp-content/uploads/2025/07/filling-station-thusday-specials.jpg
END:VEVENT
BEGIN:VEVENT
DTSTART;VALUE=DATE:20261113
DTEND;VALUE=DATE:20261114
DTSTAMP:20260420T221237
CREATED:20250728T165759Z
LAST-MODIFIED:20250728T165759Z
UID:10002419-1794528000-1794614399@yourfillingstation.com
SUMMARY:Friday Specials
DESCRIPTION:Friday Specials\nGrilled Cheese with Tomato Bisque + Fries for $10
URL:https://yourfillingstation.com/event/friday-specials/2026-11-13/
CATEGORIES:Weekly Specials
ATTACH;FMTTYPE=image/jpeg:https://yourfillingstation.com/wp-content/uploads/2025/07/weekly-specials-friday.jpg
END:VEVENT
BEGIN:VEVENT
DTSTART;VALUE=DATE:20261116
DTEND;VALUE=DATE:20261117
DTSTAMP:20260420T221237
CREATED:20250728T164501Z
LAST-MODIFIED:20250728T165319Z
UID:10000332-1794787200-1794873599@yourfillingstation.com
SUMMARY:Monday Specials
DESCRIPTION:Monday Specials\nMug Night\nFirst Mug $6.50\nRefills $5.50 \n6 Original Wings or 10 Boneless Wings for $6
URL:https://yourfillingstation.com/event/test-event-3/2026-11-16/
CATEGORIES:Weekly Specials
ATTACH;FMTTYPE=image/jpeg:https://yourfillingstation.com/wp-content/uploads/2025/07/weekly-specials-monday.jpg
END:VEVENT
BEGIN:VEVENT
DTSTART;VALUE=DATE:20261117
DTEND;VALUE=DATE:20261118
DTSTAMP:20260420T221237
CREATED:20250728T164931Z
LAST-MODIFIED:20250728T165348Z
UID:10000854-1794873600-1794959999@yourfillingstation.com
SUMMARY:Tuesday Specials
DESCRIPTION:Tuesday Specials\nMusic Trivia\nStarts at 7:00 PM \nPot Roast Sandwich + Fries for $15
URL:https://yourfillingstation.com/event/tuesday-specials/2026-11-17/
CATEGORIES:Weekly Specials
ATTACH;FMTTYPE=image/jpeg:https://yourfillingstation.com/wp-content/uploads/2025/07/weekly-specials-tuesday.jpg
END:VEVENT
BEGIN:VEVENT
DTSTART;VALUE=DATE:20261118
DTEND;VALUE=DATE:20261119
DTSTAMP:20260420T221237
CREATED:20250728T165137Z
LAST-MODIFIED:20250728T165231Z
UID:10001376-1794960000-1795046399@yourfillingstation.com
SUMMARY:Wednesday Specials
DESCRIPTION:Wednesday Specials\nTrivia Night – Hosted by Trivia 614\nStarts at 7:00 PM \nItalian Sub + Fries for $10
URL:https://yourfillingstation.com/event/wednesday-specials/2026-11-18/
CATEGORIES:Weekly Specials
ATTACH;FMTTYPE=image/jpeg:https://yourfillingstation.com/wp-content/uploads/2025/07/weekly-specials-wednesday.jpg
END:VEVENT
BEGIN:VEVENT
DTSTART;VALUE=DATE:20261119
DTEND;VALUE=DATE:20261120
DTSTAMP:20260420T221237
CREATED:20251125T170601Z
LAST-MODIFIED:20251125T170659Z
UID:10001898-1795046400-1795132799@yourfillingstation.com
SUMMARY:Thursday Specials
DESCRIPTION:Thursday Specials\nFind Old Glory\nDrawing at 7:15 PM \nTavern Cheese Pizza for $10
URL:https://yourfillingstation.com/event/thursday-specials-2/2026-11-19/
CATEGORIES:Weekly Specials
ATTACH;FMTTYPE=image/jpeg:https://yourfillingstation.com/wp-content/uploads/2025/07/filling-station-thusday-specials.jpg
END:VEVENT
END:VCALENDAR