BEGIN:VCALENDAR
VERSION:2.0
PRODID:-//The Filling Station - ECPv6.15.20//NONSGML v1.0//EN
CALSCALE:GREGORIAN
METHOD:PUBLISH
X-WR-CALNAME:The Filling Station
X-ORIGINAL-URL:https://yourfillingstation.com
X-WR-CALDESC:Events for The Filling Station
REFRESH-INTERVAL;VALUE=DURATION:PT1H
X-Robots-Tag:noindex
X-PUBLISHED-TTL:PT1H
BEGIN:VTIMEZONE
TZID:America/New_York
BEGIN:DAYLIGHT
TZOFFSETFROM:-0500
TZOFFSETTO:-0400
TZNAME:EDT
DTSTART:20240310T070000
END:DAYLIGHT
BEGIN:STANDARD
TZOFFSETFROM:-0400
TZOFFSETTO:-0500
TZNAME:EST
DTSTART:20241103T060000
END:STANDARD
BEGIN:DAYLIGHT
TZOFFSETFROM:-0500
TZOFFSETTO:-0400
TZNAME:EDT
DTSTART:20250309T070000
END:DAYLIGHT
BEGIN:STANDARD
TZOFFSETFROM:-0400
TZOFFSETTO:-0500
TZNAME:EST
DTSTART:20251102T060000
END:STANDARD
BEGIN:DAYLIGHT
TZOFFSETFROM:-0500
TZOFFSETTO:-0400
TZNAME:EDT
DTSTART:20260308T070000
END:DAYLIGHT
BEGIN:STANDARD
TZOFFSETFROM:-0400
TZOFFSETTO:-0500
TZNAME:EST
DTSTART:20261101T060000
END:STANDARD
BEGIN:DAYLIGHT
TZOFFSETFROM:-0500
TZOFFSETTO:-0400
TZNAME:EDT
DTSTART:20270314T070000
END:DAYLIGHT
BEGIN:STANDARD
TZOFFSETFROM:-0400
TZOFFSETTO:-0500
TZNAME:EST
DTSTART:20271107T060000
END:STANDARD
END:VTIMEZONE
BEGIN:VEVENT
DTSTART;VALUE=DATE:20260123
DTEND;VALUE=DATE:20260124
DTSTAMP:20260420T210014
CREATED:20250728T165759Z
LAST-MODIFIED:20250728T165759Z
UID:10002377-1769126400-1769212799@yourfillingstation.com
SUMMARY:Friday Specials
DESCRIPTION:Friday Specials\nGrilled Cheese with Tomato Bisque + Fries for $10
URL:https://yourfillingstation.com/event/friday-specials/2026-01-23/
CATEGORIES:Weekly Specials
ATTACH;FMTTYPE=image/jpeg:https://yourfillingstation.com/wp-content/uploads/2025/07/weekly-specials-friday.jpg
END:VEVENT
BEGIN:VEVENT
DTSTART;VALUE=DATE:20260122
DTEND;VALUE=DATE:20260123
DTSTAMP:20260420T210014
CREATED:20251125T170601Z
LAST-MODIFIED:20251125T170659Z
UID:10001855-1769040000-1769126399@yourfillingstation.com
SUMMARY:Thursday Specials
DESCRIPTION:Thursday Specials\nFind Old Glory\nDrawing at 7:15 PM \nTavern Cheese Pizza for $10
URL:https://yourfillingstation.com/event/thursday-specials-2/2026-01-22/
CATEGORIES:Weekly Specials
ATTACH;FMTTYPE=image/jpeg:https://yourfillingstation.com/wp-content/uploads/2025/07/filling-station-thusday-specials.jpg
END:VEVENT
BEGIN:VEVENT
DTSTART;VALUE=DATE:20260121
DTEND;VALUE=DATE:20260122
DTSTAMP:20260420T210014
CREATED:20250728T165137Z
LAST-MODIFIED:20250728T165231Z
UID:10001333-1768953600-1769039999@yourfillingstation.com
SUMMARY:Wednesday Specials
DESCRIPTION:Wednesday Specials\nTrivia Night – Hosted by Trivia 614\nStarts at 7:00 PM \nItalian Sub + Fries for $10
URL:https://yourfillingstation.com/event/wednesday-specials/2026-01-21/
CATEGORIES:Weekly Specials
ATTACH;FMTTYPE=image/jpeg:https://yourfillingstation.com/wp-content/uploads/2025/07/weekly-specials-wednesday.jpg
END:VEVENT
BEGIN:VEVENT
DTSTART;VALUE=DATE:20260120
DTEND;VALUE=DATE:20260121
DTSTAMP:20260420T210014
CREATED:20250728T164931Z
LAST-MODIFIED:20250728T165348Z
UID:10000811-1768867200-1768953599@yourfillingstation.com
SUMMARY:Tuesday Specials
DESCRIPTION:Tuesday Specials\nMusic Trivia\nStarts at 7:00 PM \nPot Roast Sandwich + Fries for $15
URL:https://yourfillingstation.com/event/tuesday-specials/2026-01-20/
CATEGORIES:Weekly Specials
ATTACH;FMTTYPE=image/jpeg:https://yourfillingstation.com/wp-content/uploads/2025/07/weekly-specials-tuesday.jpg
END:VEVENT
BEGIN:VEVENT
DTSTART;VALUE=DATE:20260119
DTEND;VALUE=DATE:20260120
DTSTAMP:20260420T210014
CREATED:20250728T164501Z
LAST-MODIFIED:20250728T165319Z
UID:10000289-1768780800-1768867199@yourfillingstation.com
SUMMARY:Monday Specials
DESCRIPTION:Monday Specials\nMug Night\nFirst Mug $6.50\nRefills $5.50 \n6 Original Wings or 10 Boneless Wings for $6
URL:https://yourfillingstation.com/event/test-event-3/2026-01-19/
CATEGORIES:Weekly Specials
ATTACH;FMTTYPE=image/jpeg:https://yourfillingstation.com/wp-content/uploads/2025/07/weekly-specials-monday.jpg
END:VEVENT
BEGIN:VEVENT
DTSTART;VALUE=DATE:20260116
DTEND;VALUE=DATE:20260117
DTSTAMP:20260420T210014
CREATED:20250728T165759Z
LAST-MODIFIED:20250728T165759Z
UID:10002376-1768521600-1768607999@yourfillingstation.com
SUMMARY:Friday Specials
DESCRIPTION:Friday Specials\nGrilled Cheese with Tomato Bisque + Fries for $10
URL:https://yourfillingstation.com/event/friday-specials/2026-01-16/
CATEGORIES:Weekly Specials
ATTACH;FMTTYPE=image/jpeg:https://yourfillingstation.com/wp-content/uploads/2025/07/weekly-specials-friday.jpg
END:VEVENT
BEGIN:VEVENT
DTSTART;VALUE=DATE:20260115
DTEND;VALUE=DATE:20260116
DTSTAMP:20260420T210014
CREATED:20251125T170601Z
LAST-MODIFIED:20251125T170659Z
UID:10001854-1768435200-1768521599@yourfillingstation.com
SUMMARY:Thursday Specials
DESCRIPTION:Thursday Specials\nFind Old Glory\nDrawing at 7:15 PM \nTavern Cheese Pizza for $10
URL:https://yourfillingstation.com/event/thursday-specials-2/2026-01-15/
CATEGORIES:Weekly Specials
ATTACH;FMTTYPE=image/jpeg:https://yourfillingstation.com/wp-content/uploads/2025/07/filling-station-thusday-specials.jpg
END:VEVENT
BEGIN:VEVENT
DTSTART;VALUE=DATE:20260114
DTEND;VALUE=DATE:20260115
DTSTAMP:20260420T210014
CREATED:20250728T165137Z
LAST-MODIFIED:20250728T165231Z
UID:10001332-1768348800-1768435199@yourfillingstation.com
SUMMARY:Wednesday Specials
DESCRIPTION:Wednesday Specials\nTrivia Night – Hosted by Trivia 614\nStarts at 7:00 PM \nItalian Sub + Fries for $10
URL:https://yourfillingstation.com/event/wednesday-specials/2026-01-14/
CATEGORIES:Weekly Specials
ATTACH;FMTTYPE=image/jpeg:https://yourfillingstation.com/wp-content/uploads/2025/07/weekly-specials-wednesday.jpg
END:VEVENT
BEGIN:VEVENT
DTSTART;VALUE=DATE:20260113
DTEND;VALUE=DATE:20260114
DTSTAMP:20260420T210014
CREATED:20250728T164931Z
LAST-MODIFIED:20250728T165348Z
UID:10000810-1768262400-1768348799@yourfillingstation.com
SUMMARY:Tuesday Specials
DESCRIPTION:Tuesday Specials\nMusic Trivia\nStarts at 7:00 PM \nPot Roast Sandwich + Fries for $15
URL:https://yourfillingstation.com/event/tuesday-specials/2026-01-13/
CATEGORIES:Weekly Specials
ATTACH;FMTTYPE=image/jpeg:https://yourfillingstation.com/wp-content/uploads/2025/07/weekly-specials-tuesday.jpg
END:VEVENT
BEGIN:VEVENT
DTSTART;VALUE=DATE:20260112
DTEND;VALUE=DATE:20260113
DTSTAMP:20260420T210015
CREATED:20250728T164501Z
LAST-MODIFIED:20250728T165319Z
UID:10000288-1768176000-1768262399@yourfillingstation.com
SUMMARY:Monday Specials
DESCRIPTION:Monday Specials\nMug Night\nFirst Mug $6.50\nRefills $5.50 \n6 Original Wings or 10 Boneless Wings for $6
URL:https://yourfillingstation.com/event/test-event-3/2026-01-12/
CATEGORIES:Weekly Specials
ATTACH;FMTTYPE=image/jpeg:https://yourfillingstation.com/wp-content/uploads/2025/07/weekly-specials-monday.jpg
END:VEVENT
BEGIN:VEVENT
DTSTART;VALUE=DATE:20260109
DTEND;VALUE=DATE:20260110
DTSTAMP:20260420T210015
CREATED:20250728T165759Z
LAST-MODIFIED:20250728T165759Z
UID:10002375-1767916800-1768003199@yourfillingstation.com
SUMMARY:Friday Specials
DESCRIPTION:Friday Specials\nGrilled Cheese with Tomato Bisque + Fries for $10
URL:https://yourfillingstation.com/event/friday-specials/2026-01-09/
CATEGORIES:Weekly Specials
ATTACH;FMTTYPE=image/jpeg:https://yourfillingstation.com/wp-content/uploads/2025/07/weekly-specials-friday.jpg
END:VEVENT
BEGIN:VEVENT
DTSTART;VALUE=DATE:20260108
DTEND;VALUE=DATE:20260109
DTSTAMP:20260420T210015
CREATED:20251125T170601Z
LAST-MODIFIED:20251125T170659Z
UID:10001853-1767830400-1767916799@yourfillingstation.com
SUMMARY:Thursday Specials
DESCRIPTION:Thursday Specials\nFind Old Glory\nDrawing at 7:15 PM \nTavern Cheese Pizza for $10
URL:https://yourfillingstation.com/event/thursday-specials-2/2026-01-08/
CATEGORIES:Weekly Specials
ATTACH;FMTTYPE=image/jpeg:https://yourfillingstation.com/wp-content/uploads/2025/07/filling-station-thusday-specials.jpg
END:VEVENT
BEGIN:VEVENT
DTSTART;VALUE=DATE:20260107
DTEND;VALUE=DATE:20260108
DTSTAMP:20260420T210015
CREATED:20250728T165137Z
LAST-MODIFIED:20250728T165231Z
UID:10001331-1767744000-1767830399@yourfillingstation.com
SUMMARY:Wednesday Specials
DESCRIPTION:Wednesday Specials\nTrivia Night – Hosted by Trivia 614\nStarts at 7:00 PM \nItalian Sub + Fries for $10
URL:https://yourfillingstation.com/event/wednesday-specials/2026-01-07/
CATEGORIES:Weekly Specials
ATTACH;FMTTYPE=image/jpeg:https://yourfillingstation.com/wp-content/uploads/2025/07/weekly-specials-wednesday.jpg
END:VEVENT
BEGIN:VEVENT
DTSTART;VALUE=DATE:20260106
DTEND;VALUE=DATE:20260107
DTSTAMP:20260420T210015
CREATED:20250728T164931Z
LAST-MODIFIED:20250728T165348Z
UID:10000809-1767657600-1767743999@yourfillingstation.com
SUMMARY:Tuesday Specials
DESCRIPTION:Tuesday Specials\nMusic Trivia\nStarts at 7:00 PM \nPot Roast Sandwich + Fries for $15
URL:https://yourfillingstation.com/event/tuesday-specials/2026-01-06/
CATEGORIES:Weekly Specials
ATTACH;FMTTYPE=image/jpeg:https://yourfillingstation.com/wp-content/uploads/2025/07/weekly-specials-tuesday.jpg
END:VEVENT
BEGIN:VEVENT
DTSTART;VALUE=DATE:20260105
DTEND;VALUE=DATE:20260106
DTSTAMP:20260420T210015
CREATED:20250728T164501Z
LAST-MODIFIED:20250728T165319Z
UID:10000287-1767571200-1767657599@yourfillingstation.com
SUMMARY:Monday Specials
DESCRIPTION:Monday Specials\nMug Night\nFirst Mug $6.50\nRefills $5.50 \n6 Original Wings or 10 Boneless Wings for $6
URL:https://yourfillingstation.com/event/test-event-3/2026-01-05/
CATEGORIES:Weekly Specials
ATTACH;FMTTYPE=image/jpeg:https://yourfillingstation.com/wp-content/uploads/2025/07/weekly-specials-monday.jpg
END:VEVENT
BEGIN:VEVENT
DTSTART;VALUE=DATE:20260102
DTEND;VALUE=DATE:20260103
DTSTAMP:20260420T210015
CREATED:20250728T165759Z
LAST-MODIFIED:20250728T165759Z
UID:10002374-1767312000-1767398399@yourfillingstation.com
SUMMARY:Friday Specials
DESCRIPTION:Friday Specials\nGrilled Cheese with Tomato Bisque + Fries for $10
URL:https://yourfillingstation.com/event/friday-specials/2026-01-02/
CATEGORIES:Weekly Specials
ATTACH;FMTTYPE=image/jpeg:https://yourfillingstation.com/wp-content/uploads/2025/07/weekly-specials-friday.jpg
END:VEVENT
BEGIN:VEVENT
DTSTART;VALUE=DATE:20260101
DTEND;VALUE=DATE:20260102
DTSTAMP:20260420T210015
CREATED:20251125T170601Z
LAST-MODIFIED:20251125T170659Z
UID:10001852-1767225600-1767311999@yourfillingstation.com
SUMMARY:Thursday Specials
DESCRIPTION:Thursday Specials\nFind Old Glory\nDrawing at 7:15 PM \nTavern Cheese Pizza for $10
URL:https://yourfillingstation.com/event/thursday-specials-2/2026-01-01/
CATEGORIES:Weekly Specials
ATTACH;FMTTYPE=image/jpeg:https://yourfillingstation.com/wp-content/uploads/2025/07/filling-station-thusday-specials.jpg
END:VEVENT
BEGIN:VEVENT
DTSTART;VALUE=DATE:20251231
DTEND;VALUE=DATE:20260101
DTSTAMP:20260420T210015
CREATED:20250728T165137Z
LAST-MODIFIED:20250728T165231Z
UID:10001330-1767139200-1767225599@yourfillingstation.com
SUMMARY:Wednesday Specials
DESCRIPTION:Wednesday Specials\nTrivia Night – Hosted by Trivia 614\nStarts at 7:00 PM \nItalian Sub + Fries for $10
URL:https://yourfillingstation.com/event/wednesday-specials/2025-12-31/
CATEGORIES:Weekly Specials
ATTACH;FMTTYPE=image/jpeg:https://yourfillingstation.com/wp-content/uploads/2025/07/weekly-specials-wednesday.jpg
END:VEVENT
BEGIN:VEVENT
DTSTART;VALUE=DATE:20251230
DTEND;VALUE=DATE:20251231
DTSTAMP:20260420T210015
CREATED:20250728T164931Z
LAST-MODIFIED:20250728T165348Z
UID:10000808-1767052800-1767139199@yourfillingstation.com
SUMMARY:Tuesday Specials
DESCRIPTION:Tuesday Specials\nMusic Trivia\nStarts at 7:00 PM \nPot Roast Sandwich + Fries for $15
URL:https://yourfillingstation.com/event/tuesday-specials/2025-12-30/
CATEGORIES:Weekly Specials
ATTACH;FMTTYPE=image/jpeg:https://yourfillingstation.com/wp-content/uploads/2025/07/weekly-specials-tuesday.jpg
END:VEVENT
BEGIN:VEVENT
DTSTART;VALUE=DATE:20251229
DTEND;VALUE=DATE:20251230
DTSTAMP:20260420T210015
CREATED:20250728T164501Z
LAST-MODIFIED:20250728T165319Z
UID:10000286-1766966400-1767052799@yourfillingstation.com
SUMMARY:Monday Specials
DESCRIPTION:Monday Specials\nMug Night\nFirst Mug $6.50\nRefills $5.50 \n6 Original Wings or 10 Boneless Wings for $6
URL:https://yourfillingstation.com/event/test-event-3/2025-12-29/
CATEGORIES:Weekly Specials
ATTACH;FMTTYPE=image/jpeg:https://yourfillingstation.com/wp-content/uploads/2025/07/weekly-specials-monday.jpg
END:VEVENT
BEGIN:VEVENT
DTSTART;VALUE=DATE:20251226
DTEND;VALUE=DATE:20251227
DTSTAMP:20260420T210015
CREATED:20250728T165759Z
LAST-MODIFIED:20250728T165759Z
UID:10002373-1766707200-1766793599@yourfillingstation.com
SUMMARY:Friday Specials
DESCRIPTION:Friday Specials\nGrilled Cheese with Tomato Bisque + Fries for $10
URL:https://yourfillingstation.com/event/friday-specials/2025-12-26/
CATEGORIES:Weekly Specials
ATTACH;FMTTYPE=image/jpeg:https://yourfillingstation.com/wp-content/uploads/2025/07/weekly-specials-friday.jpg
END:VEVENT
BEGIN:VEVENT
DTSTART;VALUE=DATE:20251225
DTEND;VALUE=DATE:20251226
DTSTAMP:20260420T210015
CREATED:20251125T170601Z
LAST-MODIFIED:20251125T170659Z
UID:10001851-1766620800-1766707199@yourfillingstation.com
SUMMARY:Thursday Specials
DESCRIPTION:Thursday Specials\nFind Old Glory\nDrawing at 7:15 PM \nTavern Cheese Pizza for $10
URL:https://yourfillingstation.com/event/thursday-specials-2/2025-12-25/
CATEGORIES:Weekly Specials
ATTACH;FMTTYPE=image/jpeg:https://yourfillingstation.com/wp-content/uploads/2025/07/filling-station-thusday-specials.jpg
END:VEVENT
BEGIN:VEVENT
DTSTART;VALUE=DATE:20251224
DTEND;VALUE=DATE:20251225
DTSTAMP:20260420T210015
CREATED:20250728T165137Z
LAST-MODIFIED:20250728T165231Z
UID:10001329-1766534400-1766620799@yourfillingstation.com
SUMMARY:Wednesday Specials
DESCRIPTION:Wednesday Specials\nTrivia Night – Hosted by Trivia 614\nStarts at 7:00 PM \nItalian Sub + Fries for $10
URL:https://yourfillingstation.com/event/wednesday-specials/2025-12-24/
CATEGORIES:Weekly Specials
ATTACH;FMTTYPE=image/jpeg:https://yourfillingstation.com/wp-content/uploads/2025/07/weekly-specials-wednesday.jpg
END:VEVENT
BEGIN:VEVENT
DTSTART;VALUE=DATE:20251223
DTEND;VALUE=DATE:20251224
DTSTAMP:20260420T210015
CREATED:20250728T164931Z
LAST-MODIFIED:20250728T165348Z
UID:10000807-1766448000-1766534399@yourfillingstation.com
SUMMARY:Tuesday Specials
DESCRIPTION:Tuesday Specials\nMusic Trivia\nStarts at 7:00 PM \nPot Roast Sandwich + Fries for $15
URL:https://yourfillingstation.com/event/tuesday-specials/2025-12-23/
CATEGORIES:Weekly Specials
ATTACH;FMTTYPE=image/jpeg:https://yourfillingstation.com/wp-content/uploads/2025/07/weekly-specials-tuesday.jpg
END:VEVENT
BEGIN:VEVENT
DTSTART;VALUE=DATE:20251222
DTEND;VALUE=DATE:20251223
DTSTAMP:20260420T210015
CREATED:20250728T164501Z
LAST-MODIFIED:20250728T165319Z
UID:10000285-1766361600-1766447999@yourfillingstation.com
SUMMARY:Monday Specials
DESCRIPTION:Monday Specials\nMug Night\nFirst Mug $6.50\nRefills $5.50 \n6 Original Wings or 10 Boneless Wings for $6
URL:https://yourfillingstation.com/event/test-event-3/2025-12-22/
CATEGORIES:Weekly Specials
ATTACH;FMTTYPE=image/jpeg:https://yourfillingstation.com/wp-content/uploads/2025/07/weekly-specials-monday.jpg
END:VEVENT
BEGIN:VEVENT
DTSTART;VALUE=DATE:20251219
DTEND;VALUE=DATE:20251220
DTSTAMP:20260420T210015
CREATED:20250728T165759Z
LAST-MODIFIED:20250728T165759Z
UID:10002372-1766102400-1766188799@yourfillingstation.com
SUMMARY:Friday Specials
DESCRIPTION:Friday Specials\nGrilled Cheese with Tomato Bisque + Fries for $10
URL:https://yourfillingstation.com/event/friday-specials/2025-12-19/
CATEGORIES:Weekly Specials
ATTACH;FMTTYPE=image/jpeg:https://yourfillingstation.com/wp-content/uploads/2025/07/weekly-specials-friday.jpg
END:VEVENT
BEGIN:VEVENT
DTSTART;VALUE=DATE:20251218
DTEND;VALUE=DATE:20251219
DTSTAMP:20260420T210015
CREATED:20251125T170601Z
LAST-MODIFIED:20251125T170659Z
UID:10001850-1766016000-1766102399@yourfillingstation.com
SUMMARY:Thursday Specials
DESCRIPTION:Thursday Specials\nFind Old Glory\nDrawing at 7:15 PM \nTavern Cheese Pizza for $10
URL:https://yourfillingstation.com/event/thursday-specials-2/2025-12-18/
CATEGORIES:Weekly Specials
ATTACH;FMTTYPE=image/jpeg:https://yourfillingstation.com/wp-content/uploads/2025/07/filling-station-thusday-specials.jpg
END:VEVENT
BEGIN:VEVENT
DTSTART;VALUE=DATE:20251217
DTEND;VALUE=DATE:20251218
DTSTAMP:20260420T210015
CREATED:20250728T165137Z
LAST-MODIFIED:20250728T165231Z
UID:10001328-1765929600-1766015999@yourfillingstation.com
SUMMARY:Wednesday Specials
DESCRIPTION:Wednesday Specials\nTrivia Night – Hosted by Trivia 614\nStarts at 7:00 PM \nItalian Sub + Fries for $10
URL:https://yourfillingstation.com/event/wednesday-specials/2025-12-17/
CATEGORIES:Weekly Specials
ATTACH;FMTTYPE=image/jpeg:https://yourfillingstation.com/wp-content/uploads/2025/07/weekly-specials-wednesday.jpg
END:VEVENT
BEGIN:VEVENT
DTSTART;VALUE=DATE:20251216
DTEND;VALUE=DATE:20251217
DTSTAMP:20260420T210015
CREATED:20250728T164931Z
LAST-MODIFIED:20250728T165348Z
UID:10000806-1765843200-1765929599@yourfillingstation.com
SUMMARY:Tuesday Specials
DESCRIPTION:Tuesday Specials\nMusic Trivia\nStarts at 7:00 PM \nPot Roast Sandwich + Fries for $15
URL:https://yourfillingstation.com/event/tuesday-specials/2025-12-16/
CATEGORIES:Weekly Specials
ATTACH;FMTTYPE=image/jpeg:https://yourfillingstation.com/wp-content/uploads/2025/07/weekly-specials-tuesday.jpg
END:VEVENT
BEGIN:VEVENT
DTSTART;VALUE=DATE:20251215
DTEND;VALUE=DATE:20251216
DTSTAMP:20260420T210015
CREATED:20250728T164501Z
LAST-MODIFIED:20250728T165319Z
UID:10000284-1765756800-1765843199@yourfillingstation.com
SUMMARY:Monday Specials
DESCRIPTION:Monday Specials\nMug Night\nFirst Mug $6.50\nRefills $5.50 \n6 Original Wings or 10 Boneless Wings for $6
URL:https://yourfillingstation.com/event/test-event-3/2025-12-15/
CATEGORIES:Weekly Specials
ATTACH;FMTTYPE=image/jpeg:https://yourfillingstation.com/wp-content/uploads/2025/07/weekly-specials-monday.jpg
END:VEVENT
END:VCALENDAR