BEGIN:VCALENDAR
VERSION:2.0
PRODID:-//The Filling Station - ECPv6.15.20//NONSGML v1.0//EN
CALSCALE:GREGORIAN
METHOD:PUBLISH
X-ORIGINAL-URL:https://yourfillingstation.com
X-WR-CALDESC:Events for The Filling Station
REFRESH-INTERVAL;VALUE=DURATION:PT1H
X-Robots-Tag:noindex
X-PUBLISHED-TTL:PT1H
BEGIN:VTIMEZONE
TZID:America/New_York
BEGIN:DAYLIGHT
TZOFFSETFROM:-0500
TZOFFSETTO:-0400
TZNAME:EDT
DTSTART:20250309T070000
END:DAYLIGHT
BEGIN:STANDARD
TZOFFSETFROM:-0400
TZOFFSETTO:-0500
TZNAME:EST
DTSTART:20251102T060000
END:STANDARD
BEGIN:DAYLIGHT
TZOFFSETFROM:-0500
TZOFFSETTO:-0400
TZNAME:EDT
DTSTART:20260308T070000
END:DAYLIGHT
BEGIN:STANDARD
TZOFFSETFROM:-0400
TZOFFSETTO:-0500
TZNAME:EST
DTSTART:20261101T060000
END:STANDARD
BEGIN:DAYLIGHT
TZOFFSETFROM:-0500
TZOFFSETTO:-0400
TZNAME:EDT
DTSTART:20270314T070000
END:DAYLIGHT
BEGIN:STANDARD
TZOFFSETFROM:-0400
TZOFFSETTO:-0500
TZNAME:EST
DTSTART:20271107T060000
END:STANDARD
BEGIN:DAYLIGHT
TZOFFSETFROM:-0500
TZOFFSETTO:-0400
TZNAME:EDT
DTSTART:20280312T070000
END:DAYLIGHT
BEGIN:STANDARD
TZOFFSETFROM:-0400
TZOFFSETTO:-0500
TZNAME:EST
DTSTART:20281105T060000
END:STANDARD
END:VTIMEZONE
BEGIN:VEVENT
DTSTART;VALUE=DATE:20261123
DTEND;VALUE=DATE:20261124
DTSTAMP:20260421T005447
CREATED:20250728T164501Z
LAST-MODIFIED:20250728T165319Z
UID:10000333-1795392000-1795478399@yourfillingstation.com
SUMMARY:Monday Specials
DESCRIPTION:Monday Specials\nMug Night\nFirst Mug $6.50\nRefills $5.50 \n6 Original Wings or 10 Boneless Wings for $6
URL:https://yourfillingstation.com/event/test-event-3/2026-11-23/
CATEGORIES:Weekly Specials
ATTACH;FMTTYPE=image/jpeg:https://yourfillingstation.com/wp-content/uploads/2025/07/weekly-specials-monday.jpg
END:VEVENT
BEGIN:VEVENT
DTSTART;VALUE=DATE:20261124
DTEND;VALUE=DATE:20261125
DTSTAMP:20260421T005447
CREATED:20250728T164931Z
LAST-MODIFIED:20250728T165348Z
UID:10000855-1795478400-1795564799@yourfillingstation.com
SUMMARY:Tuesday Specials
DESCRIPTION:Tuesday Specials\nMusic Trivia\nStarts at 7:00 PM \nPot Roast Sandwich + Fries for $15
URL:https://yourfillingstation.com/event/tuesday-specials/2026-11-24/
CATEGORIES:Weekly Specials
ATTACH;FMTTYPE=image/jpeg:https://yourfillingstation.com/wp-content/uploads/2025/07/weekly-specials-tuesday.jpg
END:VEVENT
BEGIN:VEVENT
DTSTART;VALUE=DATE:20261125
DTEND;VALUE=DATE:20261126
DTSTAMP:20260421T005447
CREATED:20250728T165137Z
LAST-MODIFIED:20250728T165231Z
UID:10001377-1795564800-1795651199@yourfillingstation.com
SUMMARY:Wednesday Specials
DESCRIPTION:Wednesday Specials\nTrivia Night – Hosted by Trivia 614\nStarts at 7:00 PM \nItalian Sub + Fries for $10
URL:https://yourfillingstation.com/event/wednesday-specials/2026-11-25/
CATEGORIES:Weekly Specials
ATTACH;FMTTYPE=image/jpeg:https://yourfillingstation.com/wp-content/uploads/2025/07/weekly-specials-wednesday.jpg
END:VEVENT
BEGIN:VEVENT
DTSTART;VALUE=DATE:20261126
DTEND;VALUE=DATE:20261127
DTSTAMP:20260421T005447
CREATED:20251125T170601Z
LAST-MODIFIED:20251125T170659Z
UID:10001899-1795651200-1795737599@yourfillingstation.com
SUMMARY:Thursday Specials
DESCRIPTION:Thursday Specials\nFind Old Glory\nDrawing at 7:15 PM \nTavern Cheese Pizza for $10
URL:https://yourfillingstation.com/event/thursday-specials-2/2026-11-26/
CATEGORIES:Weekly Specials
ATTACH;FMTTYPE=image/jpeg:https://yourfillingstation.com/wp-content/uploads/2025/07/filling-station-thusday-specials.jpg
END:VEVENT
BEGIN:VEVENT
DTSTART;VALUE=DATE:20261127
DTEND;VALUE=DATE:20261128
DTSTAMP:20260421T005447
CREATED:20250728T165759Z
LAST-MODIFIED:20250728T165759Z
UID:10002421-1795737600-1795823999@yourfillingstation.com
SUMMARY:Friday Specials
DESCRIPTION:Friday Specials\nGrilled Cheese with Tomato Bisque + Fries for $10
URL:https://yourfillingstation.com/event/friday-specials/2026-11-27/
CATEGORIES:Weekly Specials
ATTACH;FMTTYPE=image/jpeg:https://yourfillingstation.com/wp-content/uploads/2025/07/weekly-specials-friday.jpg
END:VEVENT
BEGIN:VEVENT
DTSTART;VALUE=DATE:20261130
DTEND;VALUE=DATE:20261201
DTSTAMP:20260421T005447
CREATED:20250728T164501Z
LAST-MODIFIED:20250728T165319Z
UID:10000334-1795996800-1796083199@yourfillingstation.com
SUMMARY:Monday Specials
DESCRIPTION:Monday Specials\nMug Night\nFirst Mug $6.50\nRefills $5.50 \n6 Original Wings or 10 Boneless Wings for $6
URL:https://yourfillingstation.com/event/test-event-3/2026-11-30/
CATEGORIES:Weekly Specials
ATTACH;FMTTYPE=image/jpeg:https://yourfillingstation.com/wp-content/uploads/2025/07/weekly-specials-monday.jpg
END:VEVENT
BEGIN:VEVENT
DTSTART;VALUE=DATE:20261201
DTEND;VALUE=DATE:20261202
DTSTAMP:20260421T005447
CREATED:20250728T164931Z
LAST-MODIFIED:20250728T165348Z
UID:10000856-1796083200-1796169599@yourfillingstation.com
SUMMARY:Tuesday Specials
DESCRIPTION:Tuesday Specials\nMusic Trivia\nStarts at 7:00 PM \nPot Roast Sandwich + Fries for $15
URL:https://yourfillingstation.com/event/tuesday-specials/2026-12-01/
CATEGORIES:Weekly Specials
ATTACH;FMTTYPE=image/jpeg:https://yourfillingstation.com/wp-content/uploads/2025/07/weekly-specials-tuesday.jpg
END:VEVENT
BEGIN:VEVENT
DTSTART;VALUE=DATE:20261202
DTEND;VALUE=DATE:20261203
DTSTAMP:20260421T005447
CREATED:20250728T165137Z
LAST-MODIFIED:20250728T165231Z
UID:10001378-1796169600-1796255999@yourfillingstation.com
SUMMARY:Wednesday Specials
DESCRIPTION:Wednesday Specials\nTrivia Night – Hosted by Trivia 614\nStarts at 7:00 PM \nItalian Sub + Fries for $10
URL:https://yourfillingstation.com/event/wednesday-specials/2026-12-02/
CATEGORIES:Weekly Specials
ATTACH;FMTTYPE=image/jpeg:https://yourfillingstation.com/wp-content/uploads/2025/07/weekly-specials-wednesday.jpg
END:VEVENT
BEGIN:VEVENT
DTSTART;VALUE=DATE:20261203
DTEND;VALUE=DATE:20261204
DTSTAMP:20260421T005447
CREATED:20251125T170601Z
LAST-MODIFIED:20251125T170659Z
UID:10001900-1796256000-1796342399@yourfillingstation.com
SUMMARY:Thursday Specials
DESCRIPTION:Thursday Specials\nFind Old Glory\nDrawing at 7:15 PM \nTavern Cheese Pizza for $10
URL:https://yourfillingstation.com/event/thursday-specials-2/2026-12-03/
CATEGORIES:Weekly Specials
ATTACH;FMTTYPE=image/jpeg:https://yourfillingstation.com/wp-content/uploads/2025/07/filling-station-thusday-specials.jpg
END:VEVENT
BEGIN:VEVENT
DTSTART;VALUE=DATE:20261204
DTEND;VALUE=DATE:20261205
DTSTAMP:20260421T005447
CREATED:20250728T165759Z
LAST-MODIFIED:20250728T165759Z
UID:10002422-1796342400-1796428799@yourfillingstation.com
SUMMARY:Friday Specials
DESCRIPTION:Friday Specials\nGrilled Cheese with Tomato Bisque + Fries for $10
URL:https://yourfillingstation.com/event/friday-specials/2026-12-04/
CATEGORIES:Weekly Specials
ATTACH;FMTTYPE=image/jpeg:https://yourfillingstation.com/wp-content/uploads/2025/07/weekly-specials-friday.jpg
END:VEVENT
BEGIN:VEVENT
DTSTART;VALUE=DATE:20261207
DTEND;VALUE=DATE:20261208
DTSTAMP:20260421T005447
CREATED:20250728T164501Z
LAST-MODIFIED:20250728T165319Z
UID:10000335-1796601600-1796687999@yourfillingstation.com
SUMMARY:Monday Specials
DESCRIPTION:Monday Specials\nMug Night\nFirst Mug $6.50\nRefills $5.50 \n6 Original Wings or 10 Boneless Wings for $6
URL:https://yourfillingstation.com/event/test-event-3/2026-12-07/
CATEGORIES:Weekly Specials
ATTACH;FMTTYPE=image/jpeg:https://yourfillingstation.com/wp-content/uploads/2025/07/weekly-specials-monday.jpg
END:VEVENT
BEGIN:VEVENT
DTSTART;VALUE=DATE:20261208
DTEND;VALUE=DATE:20261209
DTSTAMP:20260421T005447
CREATED:20250728T164931Z
LAST-MODIFIED:20250728T165348Z
UID:10000857-1796688000-1796774399@yourfillingstation.com
SUMMARY:Tuesday Specials
DESCRIPTION:Tuesday Specials\nMusic Trivia\nStarts at 7:00 PM \nPot Roast Sandwich + Fries for $15
URL:https://yourfillingstation.com/event/tuesday-specials/2026-12-08/
CATEGORIES:Weekly Specials
ATTACH;FMTTYPE=image/jpeg:https://yourfillingstation.com/wp-content/uploads/2025/07/weekly-specials-tuesday.jpg
END:VEVENT
BEGIN:VEVENT
DTSTART;VALUE=DATE:20261209
DTEND;VALUE=DATE:20261210
DTSTAMP:20260421T005447
CREATED:20250728T165137Z
LAST-MODIFIED:20250728T165231Z
UID:10001379-1796774400-1796860799@yourfillingstation.com
SUMMARY:Wednesday Specials
DESCRIPTION:Wednesday Specials\nTrivia Night – Hosted by Trivia 614\nStarts at 7:00 PM \nItalian Sub + Fries for $10
URL:https://yourfillingstation.com/event/wednesday-specials/2026-12-09/
CATEGORIES:Weekly Specials
ATTACH;FMTTYPE=image/jpeg:https://yourfillingstation.com/wp-content/uploads/2025/07/weekly-specials-wednesday.jpg
END:VEVENT
BEGIN:VEVENT
DTSTART;VALUE=DATE:20261210
DTEND;VALUE=DATE:20261211
DTSTAMP:20260421T005448
CREATED:20251125T170601Z
LAST-MODIFIED:20251125T170659Z
UID:10001901-1796860800-1796947199@yourfillingstation.com
SUMMARY:Thursday Specials
DESCRIPTION:Thursday Specials\nFind Old Glory\nDrawing at 7:15 PM \nTavern Cheese Pizza for $10
URL:https://yourfillingstation.com/event/thursday-specials-2/2026-12-10/
CATEGORIES:Weekly Specials
ATTACH;FMTTYPE=image/jpeg:https://yourfillingstation.com/wp-content/uploads/2025/07/filling-station-thusday-specials.jpg
END:VEVENT
BEGIN:VEVENT
DTSTART;VALUE=DATE:20261211
DTEND;VALUE=DATE:20261212
DTSTAMP:20260421T005448
CREATED:20250728T165759Z
LAST-MODIFIED:20250728T165759Z
UID:10002423-1796947200-1797033599@yourfillingstation.com
SUMMARY:Friday Specials
DESCRIPTION:Friday Specials\nGrilled Cheese with Tomato Bisque + Fries for $10
URL:https://yourfillingstation.com/event/friday-specials/2026-12-11/
CATEGORIES:Weekly Specials
ATTACH;FMTTYPE=image/jpeg:https://yourfillingstation.com/wp-content/uploads/2025/07/weekly-specials-friday.jpg
END:VEVENT
BEGIN:VEVENT
DTSTART;VALUE=DATE:20261214
DTEND;VALUE=DATE:20261215
DTSTAMP:20260421T005448
CREATED:20250728T164501Z
LAST-MODIFIED:20250728T165319Z
UID:10000336-1797206400-1797292799@yourfillingstation.com
SUMMARY:Monday Specials
DESCRIPTION:Monday Specials\nMug Night\nFirst Mug $6.50\nRefills $5.50 \n6 Original Wings or 10 Boneless Wings for $6
URL:https://yourfillingstation.com/event/test-event-3/2026-12-14/
CATEGORIES:Weekly Specials
ATTACH;FMTTYPE=image/jpeg:https://yourfillingstation.com/wp-content/uploads/2025/07/weekly-specials-monday.jpg
END:VEVENT
BEGIN:VEVENT
DTSTART;VALUE=DATE:20261215
DTEND;VALUE=DATE:20261216
DTSTAMP:20260421T005448
CREATED:20250728T164931Z
LAST-MODIFIED:20250728T165348Z
UID:10000858-1797292800-1797379199@yourfillingstation.com
SUMMARY:Tuesday Specials
DESCRIPTION:Tuesday Specials\nMusic Trivia\nStarts at 7:00 PM \nPot Roast Sandwich + Fries for $15
URL:https://yourfillingstation.com/event/tuesday-specials/2026-12-15/
CATEGORIES:Weekly Specials
ATTACH;FMTTYPE=image/jpeg:https://yourfillingstation.com/wp-content/uploads/2025/07/weekly-specials-tuesday.jpg
END:VEVENT
BEGIN:VEVENT
DTSTART;VALUE=DATE:20261216
DTEND;VALUE=DATE:20261217
DTSTAMP:20260421T005448
CREATED:20250728T165137Z
LAST-MODIFIED:20250728T165231Z
UID:10001380-1797379200-1797465599@yourfillingstation.com
SUMMARY:Wednesday Specials
DESCRIPTION:Wednesday Specials\nTrivia Night – Hosted by Trivia 614\nStarts at 7:00 PM \nItalian Sub + Fries for $10
URL:https://yourfillingstation.com/event/wednesday-specials/2026-12-16/
CATEGORIES:Weekly Specials
ATTACH;FMTTYPE=image/jpeg:https://yourfillingstation.com/wp-content/uploads/2025/07/weekly-specials-wednesday.jpg
END:VEVENT
BEGIN:VEVENT
DTSTART;VALUE=DATE:20261217
DTEND;VALUE=DATE:20261218
DTSTAMP:20260421T005448
CREATED:20251125T170601Z
LAST-MODIFIED:20251125T170659Z
UID:10001902-1797465600-1797551999@yourfillingstation.com
SUMMARY:Thursday Specials
DESCRIPTION:Thursday Specials\nFind Old Glory\nDrawing at 7:15 PM \nTavern Cheese Pizza for $10
URL:https://yourfillingstation.com/event/thursday-specials-2/2026-12-17/
CATEGORIES:Weekly Specials
ATTACH;FMTTYPE=image/jpeg:https://yourfillingstation.com/wp-content/uploads/2025/07/filling-station-thusday-specials.jpg
END:VEVENT
BEGIN:VEVENT
DTSTART;VALUE=DATE:20261218
DTEND;VALUE=DATE:20261219
DTSTAMP:20260421T005448
CREATED:20250728T165759Z
LAST-MODIFIED:20250728T165759Z
UID:10002424-1797552000-1797638399@yourfillingstation.com
SUMMARY:Friday Specials
DESCRIPTION:Friday Specials\nGrilled Cheese with Tomato Bisque + Fries for $10
URL:https://yourfillingstation.com/event/friday-specials/2026-12-18/
CATEGORIES:Weekly Specials
ATTACH;FMTTYPE=image/jpeg:https://yourfillingstation.com/wp-content/uploads/2025/07/weekly-specials-friday.jpg
END:VEVENT
BEGIN:VEVENT
DTSTART;VALUE=DATE:20261221
DTEND;VALUE=DATE:20261222
DTSTAMP:20260421T005448
CREATED:20250728T164501Z
LAST-MODIFIED:20250728T165319Z
UID:10000337-1797811200-1797897599@yourfillingstation.com
SUMMARY:Monday Specials
DESCRIPTION:Monday Specials\nMug Night\nFirst Mug $6.50\nRefills $5.50 \n6 Original Wings or 10 Boneless Wings for $6
URL:https://yourfillingstation.com/event/test-event-3/2026-12-21/
CATEGORIES:Weekly Specials
ATTACH;FMTTYPE=image/jpeg:https://yourfillingstation.com/wp-content/uploads/2025/07/weekly-specials-monday.jpg
END:VEVENT
BEGIN:VEVENT
DTSTART;VALUE=DATE:20261222
DTEND;VALUE=DATE:20261223
DTSTAMP:20260421T005448
CREATED:20250728T164931Z
LAST-MODIFIED:20250728T165348Z
UID:10000859-1797897600-1797983999@yourfillingstation.com
SUMMARY:Tuesday Specials
DESCRIPTION:Tuesday Specials\nMusic Trivia\nStarts at 7:00 PM \nPot Roast Sandwich + Fries for $15
URL:https://yourfillingstation.com/event/tuesday-specials/2026-12-22/
CATEGORIES:Weekly Specials
ATTACH;FMTTYPE=image/jpeg:https://yourfillingstation.com/wp-content/uploads/2025/07/weekly-specials-tuesday.jpg
END:VEVENT
BEGIN:VEVENT
DTSTART;VALUE=DATE:20261223
DTEND;VALUE=DATE:20261224
DTSTAMP:20260421T005448
CREATED:20250728T165137Z
LAST-MODIFIED:20250728T165231Z
UID:10001381-1797984000-1798070399@yourfillingstation.com
SUMMARY:Wednesday Specials
DESCRIPTION:Wednesday Specials\nTrivia Night – Hosted by Trivia 614\nStarts at 7:00 PM \nItalian Sub + Fries for $10
URL:https://yourfillingstation.com/event/wednesday-specials/2026-12-23/
CATEGORIES:Weekly Specials
ATTACH;FMTTYPE=image/jpeg:https://yourfillingstation.com/wp-content/uploads/2025/07/weekly-specials-wednesday.jpg
END:VEVENT
BEGIN:VEVENT
DTSTART;VALUE=DATE:20261224
DTEND;VALUE=DATE:20261225
DTSTAMP:20260421T005448
CREATED:20251125T170601Z
LAST-MODIFIED:20251125T170659Z
UID:10001903-1798070400-1798156799@yourfillingstation.com
SUMMARY:Thursday Specials
DESCRIPTION:Thursday Specials\nFind Old Glory\nDrawing at 7:15 PM \nTavern Cheese Pizza for $10
URL:https://yourfillingstation.com/event/thursday-specials-2/2026-12-24/
CATEGORIES:Weekly Specials
ATTACH;FMTTYPE=image/jpeg:https://yourfillingstation.com/wp-content/uploads/2025/07/filling-station-thusday-specials.jpg
END:VEVENT
BEGIN:VEVENT
DTSTART;VALUE=DATE:20261225
DTEND;VALUE=DATE:20261226
DTSTAMP:20260421T005448
CREATED:20250728T165759Z
LAST-MODIFIED:20250728T165759Z
UID:10002425-1798156800-1798243199@yourfillingstation.com
SUMMARY:Friday Specials
DESCRIPTION:Friday Specials\nGrilled Cheese with Tomato Bisque + Fries for $10
URL:https://yourfillingstation.com/event/friday-specials/2026-12-25/
CATEGORIES:Weekly Specials
ATTACH;FMTTYPE=image/jpeg:https://yourfillingstation.com/wp-content/uploads/2025/07/weekly-specials-friday.jpg
END:VEVENT
BEGIN:VEVENT
DTSTART;VALUE=DATE:20261228
DTEND;VALUE=DATE:20261229
DTSTAMP:20260421T005448
CREATED:20250728T164501Z
LAST-MODIFIED:20250728T165319Z
UID:10000338-1798416000-1798502399@yourfillingstation.com
SUMMARY:Monday Specials
DESCRIPTION:Monday Specials\nMug Night\nFirst Mug $6.50\nRefills $5.50 \n6 Original Wings or 10 Boneless Wings for $6
URL:https://yourfillingstation.com/event/test-event-3/2026-12-28/
CATEGORIES:Weekly Specials
ATTACH;FMTTYPE=image/jpeg:https://yourfillingstation.com/wp-content/uploads/2025/07/weekly-specials-monday.jpg
END:VEVENT
BEGIN:VEVENT
DTSTART;VALUE=DATE:20261229
DTEND;VALUE=DATE:20261230
DTSTAMP:20260421T005448
CREATED:20250728T164931Z
LAST-MODIFIED:20250728T165348Z
UID:10000860-1798502400-1798588799@yourfillingstation.com
SUMMARY:Tuesday Specials
DESCRIPTION:Tuesday Specials\nMusic Trivia\nStarts at 7:00 PM \nPot Roast Sandwich + Fries for $15
URL:https://yourfillingstation.com/event/tuesday-specials/2026-12-29/
CATEGORIES:Weekly Specials
ATTACH;FMTTYPE=image/jpeg:https://yourfillingstation.com/wp-content/uploads/2025/07/weekly-specials-tuesday.jpg
END:VEVENT
BEGIN:VEVENT
DTSTART;VALUE=DATE:20261230
DTEND;VALUE=DATE:20261231
DTSTAMP:20260421T005448
CREATED:20250728T165137Z
LAST-MODIFIED:20250728T165231Z
UID:10001382-1798588800-1798675199@yourfillingstation.com
SUMMARY:Wednesday Specials
DESCRIPTION:Wednesday Specials\nTrivia Night – Hosted by Trivia 614\nStarts at 7:00 PM \nItalian Sub + Fries for $10
URL:https://yourfillingstation.com/event/wednesday-specials/2026-12-30/
CATEGORIES:Weekly Specials
ATTACH;FMTTYPE=image/jpeg:https://yourfillingstation.com/wp-content/uploads/2025/07/weekly-specials-wednesday.jpg
END:VEVENT
BEGIN:VEVENT
DTSTART;VALUE=DATE:20261231
DTEND;VALUE=DATE:20270101
DTSTAMP:20260421T005448
CREATED:20251125T170601Z
LAST-MODIFIED:20251125T170659Z
UID:10001904-1798675200-1798761599@yourfillingstation.com
SUMMARY:Thursday Specials
DESCRIPTION:Thursday Specials\nFind Old Glory\nDrawing at 7:15 PM \nTavern Cheese Pizza for $10
URL:https://yourfillingstation.com/event/thursday-specials-2/2026-12-31/
CATEGORIES:Weekly Specials
ATTACH;FMTTYPE=image/jpeg:https://yourfillingstation.com/wp-content/uploads/2025/07/filling-station-thusday-specials.jpg
END:VEVENT
BEGIN:VEVENT
DTSTART;VALUE=DATE:20270101
DTEND;VALUE=DATE:20270102
DTSTAMP:20260421T005448
CREATED:20250728T165759Z
LAST-MODIFIED:20250728T165759Z
UID:10002426-1798761600-1798847999@yourfillingstation.com
SUMMARY:Friday Specials
DESCRIPTION:Friday Specials\nGrilled Cheese with Tomato Bisque + Fries for $10
URL:https://yourfillingstation.com/event/friday-specials/2027-01-01/
CATEGORIES:Weekly Specials
ATTACH;FMTTYPE=image/jpeg:https://yourfillingstation.com/wp-content/uploads/2025/07/weekly-specials-friday.jpg
END:VEVENT
END:VCALENDAR