BEGIN:VCALENDAR
VERSION:2.0
PRODID:-//The Filling Station - ECPv6.15.20//NONSGML v1.0//EN
CALSCALE:GREGORIAN
METHOD:PUBLISH
X-WR-CALNAME:The Filling Station
X-ORIGINAL-URL:https://yourfillingstation.com
X-WR-CALDESC:Events for The Filling Station
REFRESH-INTERVAL;VALUE=DURATION:PT1H
X-Robots-Tag:noindex
X-PUBLISHED-TTL:PT1H
BEGIN:VTIMEZONE
TZID:America/New_York
BEGIN:DAYLIGHT
TZOFFSETFROM:-0500
TZOFFSETTO:-0400
TZNAME:EDT
DTSTART:20260308T070000
END:DAYLIGHT
BEGIN:STANDARD
TZOFFSETFROM:-0400
TZOFFSETTO:-0500
TZNAME:EST
DTSTART:20261101T060000
END:STANDARD
BEGIN:DAYLIGHT
TZOFFSETFROM:-0500
TZOFFSETTO:-0400
TZNAME:EDT
DTSTART:20270314T070000
END:DAYLIGHT
BEGIN:STANDARD
TZOFFSETFROM:-0400
TZOFFSETTO:-0500
TZNAME:EST
DTSTART:20271107T060000
END:STANDARD
BEGIN:DAYLIGHT
TZOFFSETFROM:-0500
TZOFFSETTO:-0400
TZNAME:EDT
DTSTART:20280312T070000
END:DAYLIGHT
BEGIN:STANDARD
TZOFFSETFROM:-0400
TZOFFSETTO:-0500
TZNAME:EST
DTSTART:20281105T060000
END:STANDARD
END:VTIMEZONE
BEGIN:VEVENT
DTSTART;VALUE=DATE:20270716
DTEND;VALUE=DATE:20270717
DTSTAMP:20260421T172827
CREATED:20250728T165759Z
LAST-MODIFIED:20250728T165759Z
UID:10002454-1815696000-1815782399@yourfillingstation.com
SUMMARY:Friday Specials
DESCRIPTION:Friday Specials\nGrilled Cheese with Tomato Bisque + Fries for $10
URL:https://yourfillingstation.com/event/friday-specials/2027-07-16/
CATEGORIES:Weekly Specials
ATTACH;FMTTYPE=image/jpeg:https://yourfillingstation.com/wp-content/uploads/2025/07/weekly-specials-friday.jpg
END:VEVENT
BEGIN:VEVENT
DTSTART;VALUE=DATE:20270719
DTEND;VALUE=DATE:20270720
DTSTAMP:20260421T172827
CREATED:20250728T164501Z
LAST-MODIFIED:20250728T165319Z
UID:10000367-1815955200-1816041599@yourfillingstation.com
SUMMARY:Monday Specials
DESCRIPTION:Monday Specials\nMug Night\nFirst Mug $6.50\nRefills $5.50 \n6 Original Wings or 10 Boneless Wings for $6
URL:https://yourfillingstation.com/event/test-event-3/2027-07-19/
CATEGORIES:Weekly Specials
ATTACH;FMTTYPE=image/jpeg:https://yourfillingstation.com/wp-content/uploads/2025/07/weekly-specials-monday.jpg
END:VEVENT
BEGIN:VEVENT
DTSTART;VALUE=DATE:20270720
DTEND;VALUE=DATE:20270721
DTSTAMP:20260421T172827
CREATED:20250728T164931Z
LAST-MODIFIED:20250728T165348Z
UID:10000889-1816041600-1816127999@yourfillingstation.com
SUMMARY:Tuesday Specials
DESCRIPTION:Tuesday Specials\nMusic Trivia\nStarts at 7:00 PM \nPot Roast Sandwich + Fries for $15
URL:https://yourfillingstation.com/event/tuesday-specials/2027-07-20/
CATEGORIES:Weekly Specials
ATTACH;FMTTYPE=image/jpeg:https://yourfillingstation.com/wp-content/uploads/2025/07/weekly-specials-tuesday.jpg
END:VEVENT
BEGIN:VEVENT
DTSTART;VALUE=DATE:20270721
DTEND;VALUE=DATE:20270722
DTSTAMP:20260421T172827
CREATED:20250728T165137Z
LAST-MODIFIED:20250728T165231Z
UID:10001411-1816128000-1816214399@yourfillingstation.com
SUMMARY:Wednesday Specials
DESCRIPTION:Wednesday Specials\nTrivia Night – Hosted by Trivia 614\nStarts at 7:00 PM \nItalian Sub + Fries for $10
URL:https://yourfillingstation.com/event/wednesday-specials/2027-07-21/
CATEGORIES:Weekly Specials
ATTACH;FMTTYPE=image/jpeg:https://yourfillingstation.com/wp-content/uploads/2025/07/weekly-specials-wednesday.jpg
END:VEVENT
BEGIN:VEVENT
DTSTART;VALUE=DATE:20270722
DTEND;VALUE=DATE:20270723
DTSTAMP:20260421T172827
CREATED:20251125T170601Z
LAST-MODIFIED:20251125T170659Z
UID:10001933-1816214400-1816300799@yourfillingstation.com
SUMMARY:Thursday Specials
DESCRIPTION:Thursday Specials\nFind Old Glory\nDrawing at 7:15 PM \nTavern Cheese Pizza for $10
URL:https://yourfillingstation.com/event/thursday-specials-2/2027-07-22/
CATEGORIES:Weekly Specials
ATTACH;FMTTYPE=image/jpeg:https://yourfillingstation.com/wp-content/uploads/2025/07/filling-station-thusday-specials.jpg
END:VEVENT
BEGIN:VEVENT
DTSTART;VALUE=DATE:20270723
DTEND;VALUE=DATE:20270724
DTSTAMP:20260421T172827
CREATED:20250728T165759Z
LAST-MODIFIED:20250728T165759Z
UID:10002455-1816300800-1816387199@yourfillingstation.com
SUMMARY:Friday Specials
DESCRIPTION:Friday Specials\nGrilled Cheese with Tomato Bisque + Fries for $10
URL:https://yourfillingstation.com/event/friday-specials/2027-07-23/
CATEGORIES:Weekly Specials
ATTACH;FMTTYPE=image/jpeg:https://yourfillingstation.com/wp-content/uploads/2025/07/weekly-specials-friday.jpg
END:VEVENT
BEGIN:VEVENT
DTSTART;VALUE=DATE:20270726
DTEND;VALUE=DATE:20270727
DTSTAMP:20260421T172827
CREATED:20250728T164501Z
LAST-MODIFIED:20250728T165319Z
UID:10000368-1816560000-1816646399@yourfillingstation.com
SUMMARY:Monday Specials
DESCRIPTION:Monday Specials\nMug Night\nFirst Mug $6.50\nRefills $5.50 \n6 Original Wings or 10 Boneless Wings for $6
URL:https://yourfillingstation.com/event/test-event-3/2027-07-26/
CATEGORIES:Weekly Specials
ATTACH;FMTTYPE=image/jpeg:https://yourfillingstation.com/wp-content/uploads/2025/07/weekly-specials-monday.jpg
END:VEVENT
BEGIN:VEVENT
DTSTART;VALUE=DATE:20270727
DTEND;VALUE=DATE:20270728
DTSTAMP:20260421T172827
CREATED:20250728T164931Z
LAST-MODIFIED:20250728T165348Z
UID:10000890-1816646400-1816732799@yourfillingstation.com
SUMMARY:Tuesday Specials
DESCRIPTION:Tuesday Specials\nMusic Trivia\nStarts at 7:00 PM \nPot Roast Sandwich + Fries for $15
URL:https://yourfillingstation.com/event/tuesday-specials/2027-07-27/
CATEGORIES:Weekly Specials
ATTACH;FMTTYPE=image/jpeg:https://yourfillingstation.com/wp-content/uploads/2025/07/weekly-specials-tuesday.jpg
END:VEVENT
BEGIN:VEVENT
DTSTART;VALUE=DATE:20270728
DTEND;VALUE=DATE:20270729
DTSTAMP:20260421T172827
CREATED:20250728T165137Z
LAST-MODIFIED:20250728T165231Z
UID:10001412-1816732800-1816819199@yourfillingstation.com
SUMMARY:Wednesday Specials
DESCRIPTION:Wednesday Specials\nTrivia Night – Hosted by Trivia 614\nStarts at 7:00 PM \nItalian Sub + Fries for $10
URL:https://yourfillingstation.com/event/wednesday-specials/2027-07-28/
CATEGORIES:Weekly Specials
ATTACH;FMTTYPE=image/jpeg:https://yourfillingstation.com/wp-content/uploads/2025/07/weekly-specials-wednesday.jpg
END:VEVENT
BEGIN:VEVENT
DTSTART;VALUE=DATE:20270729
DTEND;VALUE=DATE:20270730
DTSTAMP:20260421T172827
CREATED:20251125T170601Z
LAST-MODIFIED:20251125T170659Z
UID:10001934-1816819200-1816905599@yourfillingstation.com
SUMMARY:Thursday Specials
DESCRIPTION:Thursday Specials\nFind Old Glory\nDrawing at 7:15 PM \nTavern Cheese Pizza for $10
URL:https://yourfillingstation.com/event/thursday-specials-2/2027-07-29/
CATEGORIES:Weekly Specials
ATTACH;FMTTYPE=image/jpeg:https://yourfillingstation.com/wp-content/uploads/2025/07/filling-station-thusday-specials.jpg
END:VEVENT
BEGIN:VEVENT
DTSTART;VALUE=DATE:20270730
DTEND;VALUE=DATE:20270731
DTSTAMP:20260421T172827
CREATED:20250728T165759Z
LAST-MODIFIED:20250728T165759Z
UID:10002456-1816905600-1816991999@yourfillingstation.com
SUMMARY:Friday Specials
DESCRIPTION:Friday Specials\nGrilled Cheese with Tomato Bisque + Fries for $10
URL:https://yourfillingstation.com/event/friday-specials/2027-07-30/
CATEGORIES:Weekly Specials
ATTACH;FMTTYPE=image/jpeg:https://yourfillingstation.com/wp-content/uploads/2025/07/weekly-specials-friday.jpg
END:VEVENT
BEGIN:VEVENT
DTSTART;VALUE=DATE:20270802
DTEND;VALUE=DATE:20270803
DTSTAMP:20260421T172827
CREATED:20250728T164501Z
LAST-MODIFIED:20250728T165319Z
UID:10000369-1817164800-1817251199@yourfillingstation.com
SUMMARY:Monday Specials
DESCRIPTION:Monday Specials\nMug Night\nFirst Mug $6.50\nRefills $5.50 \n6 Original Wings or 10 Boneless Wings for $6
URL:https://yourfillingstation.com/event/test-event-3/2027-08-02/
CATEGORIES:Weekly Specials
ATTACH;FMTTYPE=image/jpeg:https://yourfillingstation.com/wp-content/uploads/2025/07/weekly-specials-monday.jpg
END:VEVENT
BEGIN:VEVENT
DTSTART;VALUE=DATE:20270803
DTEND;VALUE=DATE:20270804
DTSTAMP:20260421T172827
CREATED:20250728T164931Z
LAST-MODIFIED:20250728T165348Z
UID:10000891-1817251200-1817337599@yourfillingstation.com
SUMMARY:Tuesday Specials
DESCRIPTION:Tuesday Specials\nMusic Trivia\nStarts at 7:00 PM \nPot Roast Sandwich + Fries for $15
URL:https://yourfillingstation.com/event/tuesday-specials/2027-08-03/
CATEGORIES:Weekly Specials
ATTACH;FMTTYPE=image/jpeg:https://yourfillingstation.com/wp-content/uploads/2025/07/weekly-specials-tuesday.jpg
END:VEVENT
BEGIN:VEVENT
DTSTART;VALUE=DATE:20270804
DTEND;VALUE=DATE:20270805
DTSTAMP:20260421T172827
CREATED:20250728T165137Z
LAST-MODIFIED:20250728T165231Z
UID:10001413-1817337600-1817423999@yourfillingstation.com
SUMMARY:Wednesday Specials
DESCRIPTION:Wednesday Specials\nTrivia Night – Hosted by Trivia 614\nStarts at 7:00 PM \nItalian Sub + Fries for $10
URL:https://yourfillingstation.com/event/wednesday-specials/2027-08-04/
CATEGORIES:Weekly Specials
ATTACH;FMTTYPE=image/jpeg:https://yourfillingstation.com/wp-content/uploads/2025/07/weekly-specials-wednesday.jpg
END:VEVENT
BEGIN:VEVENT
DTSTART;VALUE=DATE:20270805
DTEND;VALUE=DATE:20270806
DTSTAMP:20260421T172827
CREATED:20251125T170601Z
LAST-MODIFIED:20251125T170659Z
UID:10001935-1817424000-1817510399@yourfillingstation.com
SUMMARY:Thursday Specials
DESCRIPTION:Thursday Specials\nFind Old Glory\nDrawing at 7:15 PM \nTavern Cheese Pizza for $10
URL:https://yourfillingstation.com/event/thursday-specials-2/2027-08-05/
CATEGORIES:Weekly Specials
ATTACH;FMTTYPE=image/jpeg:https://yourfillingstation.com/wp-content/uploads/2025/07/filling-station-thusday-specials.jpg
END:VEVENT
BEGIN:VEVENT
DTSTART;VALUE=DATE:20270806
DTEND;VALUE=DATE:20270807
DTSTAMP:20260421T172827
CREATED:20250728T165759Z
LAST-MODIFIED:20250728T165759Z
UID:10002457-1817510400-1817596799@yourfillingstation.com
SUMMARY:Friday Specials
DESCRIPTION:Friday Specials\nGrilled Cheese with Tomato Bisque + Fries for $10
URL:https://yourfillingstation.com/event/friday-specials/2027-08-06/
CATEGORIES:Weekly Specials
ATTACH;FMTTYPE=image/jpeg:https://yourfillingstation.com/wp-content/uploads/2025/07/weekly-specials-friday.jpg
END:VEVENT
BEGIN:VEVENT
DTSTART;VALUE=DATE:20270809
DTEND;VALUE=DATE:20270810
DTSTAMP:20260421T172827
CREATED:20250728T164501Z
LAST-MODIFIED:20250728T165319Z
UID:10000370-1817769600-1817855999@yourfillingstation.com
SUMMARY:Monday Specials
DESCRIPTION:Monday Specials\nMug Night\nFirst Mug $6.50\nRefills $5.50 \n6 Original Wings or 10 Boneless Wings for $6
URL:https://yourfillingstation.com/event/test-event-3/2027-08-09/
CATEGORIES:Weekly Specials
ATTACH;FMTTYPE=image/jpeg:https://yourfillingstation.com/wp-content/uploads/2025/07/weekly-specials-monday.jpg
END:VEVENT
BEGIN:VEVENT
DTSTART;VALUE=DATE:20270810
DTEND;VALUE=DATE:20270811
DTSTAMP:20260421T172827
CREATED:20250728T164931Z
LAST-MODIFIED:20250728T165348Z
UID:10000892-1817856000-1817942399@yourfillingstation.com
SUMMARY:Tuesday Specials
DESCRIPTION:Tuesday Specials\nMusic Trivia\nStarts at 7:00 PM \nPot Roast Sandwich + Fries for $15
URL:https://yourfillingstation.com/event/tuesday-specials/2027-08-10/
CATEGORIES:Weekly Specials
ATTACH;FMTTYPE=image/jpeg:https://yourfillingstation.com/wp-content/uploads/2025/07/weekly-specials-tuesday.jpg
END:VEVENT
BEGIN:VEVENT
DTSTART;VALUE=DATE:20270811
DTEND;VALUE=DATE:20270812
DTSTAMP:20260421T172827
CREATED:20250728T165137Z
LAST-MODIFIED:20250728T165231Z
UID:10001414-1817942400-1818028799@yourfillingstation.com
SUMMARY:Wednesday Specials
DESCRIPTION:Wednesday Specials\nTrivia Night – Hosted by Trivia 614\nStarts at 7:00 PM \nItalian Sub + Fries for $10
URL:https://yourfillingstation.com/event/wednesday-specials/2027-08-11/
CATEGORIES:Weekly Specials
ATTACH;FMTTYPE=image/jpeg:https://yourfillingstation.com/wp-content/uploads/2025/07/weekly-specials-wednesday.jpg
END:VEVENT
BEGIN:VEVENT
DTSTART;VALUE=DATE:20270812
DTEND;VALUE=DATE:20270813
DTSTAMP:20260421T172827
CREATED:20251125T170601Z
LAST-MODIFIED:20251125T170659Z
UID:10001936-1818028800-1818115199@yourfillingstation.com
SUMMARY:Thursday Specials
DESCRIPTION:Thursday Specials\nFind Old Glory\nDrawing at 7:15 PM \nTavern Cheese Pizza for $10
URL:https://yourfillingstation.com/event/thursday-specials-2/2027-08-12/
CATEGORIES:Weekly Specials
ATTACH;FMTTYPE=image/jpeg:https://yourfillingstation.com/wp-content/uploads/2025/07/filling-station-thusday-specials.jpg
END:VEVENT
BEGIN:VEVENT
DTSTART;VALUE=DATE:20270813
DTEND;VALUE=DATE:20270814
DTSTAMP:20260421T172827
CREATED:20250728T165759Z
LAST-MODIFIED:20250728T165759Z
UID:10002458-1818115200-1818201599@yourfillingstation.com
SUMMARY:Friday Specials
DESCRIPTION:Friday Specials\nGrilled Cheese with Tomato Bisque + Fries for $10
URL:https://yourfillingstation.com/event/friday-specials/2027-08-13/
CATEGORIES:Weekly Specials
ATTACH;FMTTYPE=image/jpeg:https://yourfillingstation.com/wp-content/uploads/2025/07/weekly-specials-friday.jpg
END:VEVENT
BEGIN:VEVENT
DTSTART;VALUE=DATE:20270816
DTEND;VALUE=DATE:20270817
DTSTAMP:20260421T172827
CREATED:20250728T164501Z
LAST-MODIFIED:20250728T165319Z
UID:10000371-1818374400-1818460799@yourfillingstation.com
SUMMARY:Monday Specials
DESCRIPTION:Monday Specials\nMug Night\nFirst Mug $6.50\nRefills $5.50 \n6 Original Wings or 10 Boneless Wings for $6
URL:https://yourfillingstation.com/event/test-event-3/2027-08-16/
CATEGORIES:Weekly Specials
ATTACH;FMTTYPE=image/jpeg:https://yourfillingstation.com/wp-content/uploads/2025/07/weekly-specials-monday.jpg
END:VEVENT
BEGIN:VEVENT
DTSTART;VALUE=DATE:20270817
DTEND;VALUE=DATE:20270818
DTSTAMP:20260421T172827
CREATED:20250728T164931Z
LAST-MODIFIED:20250728T165348Z
UID:10000893-1818460800-1818547199@yourfillingstation.com
SUMMARY:Tuesday Specials
DESCRIPTION:Tuesday Specials\nMusic Trivia\nStarts at 7:00 PM \nPot Roast Sandwich + Fries for $15
URL:https://yourfillingstation.com/event/tuesday-specials/2027-08-17/
CATEGORIES:Weekly Specials
ATTACH;FMTTYPE=image/jpeg:https://yourfillingstation.com/wp-content/uploads/2025/07/weekly-specials-tuesday.jpg
END:VEVENT
BEGIN:VEVENT
DTSTART;VALUE=DATE:20270818
DTEND;VALUE=DATE:20270819
DTSTAMP:20260421T172827
CREATED:20250728T165137Z
LAST-MODIFIED:20250728T165231Z
UID:10001415-1818547200-1818633599@yourfillingstation.com
SUMMARY:Wednesday Specials
DESCRIPTION:Wednesday Specials\nTrivia Night – Hosted by Trivia 614\nStarts at 7:00 PM \nItalian Sub + Fries for $10
URL:https://yourfillingstation.com/event/wednesday-specials/2027-08-18/
CATEGORIES:Weekly Specials
ATTACH;FMTTYPE=image/jpeg:https://yourfillingstation.com/wp-content/uploads/2025/07/weekly-specials-wednesday.jpg
END:VEVENT
BEGIN:VEVENT
DTSTART;VALUE=DATE:20270819
DTEND;VALUE=DATE:20270820
DTSTAMP:20260421T172827
CREATED:20251125T170601Z
LAST-MODIFIED:20251125T170659Z
UID:10001937-1818633600-1818719999@yourfillingstation.com
SUMMARY:Thursday Specials
DESCRIPTION:Thursday Specials\nFind Old Glory\nDrawing at 7:15 PM \nTavern Cheese Pizza for $10
URL:https://yourfillingstation.com/event/thursday-specials-2/2027-08-19/
CATEGORIES:Weekly Specials
ATTACH;FMTTYPE=image/jpeg:https://yourfillingstation.com/wp-content/uploads/2025/07/filling-station-thusday-specials.jpg
END:VEVENT
BEGIN:VEVENT
DTSTART;VALUE=DATE:20270820
DTEND;VALUE=DATE:20270821
DTSTAMP:20260421T172827
CREATED:20250728T165759Z
LAST-MODIFIED:20250728T165759Z
UID:10002459-1818720000-1818806399@yourfillingstation.com
SUMMARY:Friday Specials
DESCRIPTION:Friday Specials\nGrilled Cheese with Tomato Bisque + Fries for $10
URL:https://yourfillingstation.com/event/friday-specials/2027-08-20/
CATEGORIES:Weekly Specials
ATTACH;FMTTYPE=image/jpeg:https://yourfillingstation.com/wp-content/uploads/2025/07/weekly-specials-friday.jpg
END:VEVENT
BEGIN:VEVENT
DTSTART;VALUE=DATE:20270823
DTEND;VALUE=DATE:20270824
DTSTAMP:20260421T172827
CREATED:20250728T164501Z
LAST-MODIFIED:20250728T165319Z
UID:10000372-1818979200-1819065599@yourfillingstation.com
SUMMARY:Monday Specials
DESCRIPTION:Monday Specials\nMug Night\nFirst Mug $6.50\nRefills $5.50 \n6 Original Wings or 10 Boneless Wings for $6
URL:https://yourfillingstation.com/event/test-event-3/2027-08-23/
CATEGORIES:Weekly Specials
ATTACH;FMTTYPE=image/jpeg:https://yourfillingstation.com/wp-content/uploads/2025/07/weekly-specials-monday.jpg
END:VEVENT
BEGIN:VEVENT
DTSTART;VALUE=DATE:20270824
DTEND;VALUE=DATE:20270825
DTSTAMP:20260421T172827
CREATED:20250728T164931Z
LAST-MODIFIED:20250728T165348Z
UID:10000894-1819065600-1819151999@yourfillingstation.com
SUMMARY:Tuesday Specials
DESCRIPTION:Tuesday Specials\nMusic Trivia\nStarts at 7:00 PM \nPot Roast Sandwich + Fries for $15
URL:https://yourfillingstation.com/event/tuesday-specials/2027-08-24/
CATEGORIES:Weekly Specials
ATTACH;FMTTYPE=image/jpeg:https://yourfillingstation.com/wp-content/uploads/2025/07/weekly-specials-tuesday.jpg
END:VEVENT
BEGIN:VEVENT
DTSTART;VALUE=DATE:20270825
DTEND;VALUE=DATE:20270826
DTSTAMP:20260421T172827
CREATED:20250728T165137Z
LAST-MODIFIED:20250728T165231Z
UID:10001416-1819152000-1819238399@yourfillingstation.com
SUMMARY:Wednesday Specials
DESCRIPTION:Wednesday Specials\nTrivia Night – Hosted by Trivia 614\nStarts at 7:00 PM \nItalian Sub + Fries for $10
URL:https://yourfillingstation.com/event/wednesday-specials/2027-08-25/
CATEGORIES:Weekly Specials
ATTACH;FMTTYPE=image/jpeg:https://yourfillingstation.com/wp-content/uploads/2025/07/weekly-specials-wednesday.jpg
END:VEVENT
BEGIN:VEVENT
DTSTART;VALUE=DATE:20270826
DTEND;VALUE=DATE:20270827
DTSTAMP:20260421T172827
CREATED:20251125T170601Z
LAST-MODIFIED:20251125T170659Z
UID:10001938-1819238400-1819324799@yourfillingstation.com
SUMMARY:Thursday Specials
DESCRIPTION:Thursday Specials\nFind Old Glory\nDrawing at 7:15 PM \nTavern Cheese Pizza for $10
URL:https://yourfillingstation.com/event/thursday-specials-2/2027-08-26/
CATEGORIES:Weekly Specials
ATTACH;FMTTYPE=image/jpeg:https://yourfillingstation.com/wp-content/uploads/2025/07/filling-station-thusday-specials.jpg
END:VEVENT
END:VCALENDAR